BEGIN:VCALENDAR
PRODID:NingEventWidget-v1
VERSION:2.0
METHOD:PUBLISH
BEGIN:VTIMEZONE
TZID:America/Los_Angeles
X-LIC-LOCATION:America/Los_Angeles
BEGIN:DAYLIGHT
TZOFFSETFROM:-0800
TZOFFSETTO:-0700
TZNAME:PDT
DTSTART:19700308T020000
RRULE:FREQ=YEARLY;BYMONTH=3;BYDAY=2SU
END:DAYLIGHT
BEGIN:STANDARD
TZOFFSETFROM:-0700
TZOFFSETTO:-0800
TZNAME:PST
DTSTART:19701101T020000
RRULE:FREQ=YEARLY;BYMONTH=11;BYDAY=1SU
END:STANDARD
END:VTIMEZONE
BEGIN:VEVENT
UID:1464587:Event:63950
DTSTAMP:20260420T130558Z
SUMMARY:Digital Summer 2010
DESCRIPTION:RSVP to get discount on EVENTBRITE - $5 at the door with T
 ICKET\nhttp://digitalsummer2010.eventbrite.com/\n\nMANDATORY: BRING YO
 UR PRINTED TICKET or SHOW the TICKET with your name on your MOBILE\n$1
 0 at the door without RSVP / ticket\n\nPlease join the Innovative Fash
 ion Council, Ubergizmo, and Girls in Tech in hosting Digital Summer, a
  cocktail event that celebrates fashion/art, photography, and technolo
 gy. Join us for a spectacular fashion show featuring local designers a
 nd a chance to participate in a live professional photo-shoot.\n\nPROG
 RAM:\nStudio Photo-Shoot by Eye-Fi (Feel like a Model!)\nGlam up at th
 e makeup stations\nPhoto-Show by Liz Caruana, Warren Difranco and Anth
 ony Lindsey - on screen\nYanko Design will showcase high-end product d
 esign at its booth\n\nFashion Show 10pm\nChoreographer:\nCharleston Pi
 erce\n\nDesigners:\nColleen Quen Couture\nJan Warnock\nHarputs OWN\nSo
 fie Olgaard\nJewelry provided by Manika\n\nMUSIC: DJ Mrs Blythe\n\nSPO
 NSORS: Intel, Gold - Verizon, Silver\n\nMEDIA PARTNERS: Yanko Design, 
 Cult of Mac, Techie Diva, Tech Mamas, Mashable, Burdastyle, Fashionabl
 yMarketing.me, Thread, We Blog the World, SF Style\n\nTWITTER : #DS201
 0\nMore info on website: http://digital-seasons.typepad.com/\n\nFor mo
 re information visit https://trueskool.com/events/digital-summer-2010
DTSTART;TZID=America/Los_Angeles:20100825T200000
DTEND;TZID=America/Los_Angeles:20100825T233000
CATEGORIES:san, francisco, ca
LOCATION:TempleSF
WEBSITE:http://digitalsummer2010.eventbrite.com/
URL:http://digitalsummer2010.eventbrite.com/
CONTACT:
ORGANIZER:THE INNOVATIVE FASHION COUNCIL SAN FRANCISCO
ATTACH;FMTTYPE="image/jpeg":http://storage.ning.com/topology/rest/1.0/
 file/get/2247882827?profile=original
ATTENDEE;ROLE=REQ-PARTICIPANT;PARTSTAT=ACCEPTED;RSVP=TRUE;CN="Imani Br
 own":https://trueskool.com/profile/ImaniBrown
END:VEVENT
END:VCALENDAR
