BEGIN:VCALENDAR
PRODID:NingEventWidget-v1
VERSION:2.0
METHOD:PUBLISH
BEGIN:VTIMEZONE
TZID:America/Los_Angeles
X-LIC-LOCATION:America/Los_Angeles
BEGIN:DAYLIGHT
TZOFFSETFROM:-0800
TZOFFSETTO:-0700
TZNAME:PDT
DTSTART:19700308T020000
RRULE:FREQ=YEARLY;BYMONTH=3;BYDAY=2SU
END:DAYLIGHT
BEGIN:STANDARD
TZOFFSETFROM:-0700
TZOFFSETTO:-0800
TZNAME:PST
DTSTART:19701101T020000
RRULE:FREQ=YEARLY;BYMONTH=11;BYDAY=1SU
END:STANDARD
END:VTIMEZONE
BEGIN:VEVENT
UID:1464587:Event:70840
DTSTAMP:20260420T133121Z
SUMMARY:DIGABLE PLANETS, POOR RIGHTEOUS TEACHERS, KILLAH PRIEST FEATUR
 ING KENTYAH, CASUAL
DESCRIPTION:\nFRDAY, NOV 26TH\nKEY B2 LOCK TOUR\n\nW LIVE PERFORMANCES
  BY\nDIGABLE PLANETS\nPOOR RIGHTEOUS TEACHERS\nKILLAH PRIEST FEATURING
  KENTYAH\nCASUAL (HIEROGRYPHICS)\n\n@ CLUB SIX, 60 6TH ST. (btwn MARKE
 T & MISSION), SF\nLIMITED $15 TICKETS @ http://algorythmmusic.eventbri
 te.com/\nOfficial Site: http://www.clubsix1.com\n\nDIGABLE PLANETS\nTh
 ough they were not the first to synthesize jazz and hip-hop, Digable P
 lanets epitomized the laid-back charm of jazz hipsters better than any
  group before or since. Their 1993 debut, \"Reachin' A New Refutation 
 of Time and Space\" took us on a mellow ride laced with samples from S
 onny Rollins and Curtis Mayfield and offered the essential hit, \"Rebi
 rth of a Slick: Cool Like Dat\". \"Cool Like Dat\" topped the charts a
 nd can still ignite a party fifteen years later. After earning a Gramm
 y Award for \"Best New Group\", Digable Planets went onto create their
  best album to date, \"Blowout Comb\". Successfully fusing jazz and hi
 p hop, old school and street - Digable Planets eventually hit a roadbl
 ock, after creative differences prompted nearly a decade of solo proje
 cts and collaborations for the individual members.\n\nThe Poor Righteo
 us Teachers are a trio of African American hip hop musicians from Tren
 ton, New Jersey, founded in 1989 (see 1989 in music). Often referred t
 o as PRT by their fans, Poor Righteous Teachers are known as pro-Black
  conscious hip hop artists who are members of the Nation of Gods and E
 arths. Wise Intelligent, as the lead MC, is the most visible and well 
 known member of the group. Culture Freedom provides backing vocals and
  production and Father Shaheed serves as a DJ and producer. The trio r
 eleased their first album, Holy Intellect, in 1990 (see 1990 in music)
 , spawning their only major radio hit, Rock Dis Funky Joint. This albu
 m was followed by Pure Poverty the following year. Their follow-up and
  most successful release to date has been 1993's Black Business, which
  drew criticism for alleged homophobia. Their fourth release was The N
 ew World Order (1996, see 1996 in music). Wise Intelligent released a 
 solo CD titled Killin' U for Fun in 1995. In July of 2006, Wise Intell
 igent's indie label, Intelligent Muzik, released a \"mix tape\" titled
  \"Blessed Be The Poor? - The Un-Mix Tape.\" In 2007, Wise Intelligent
  will release a second solo CD titled Wise Intelligent iz...The Talent
 ed Timothy Taylor . A Poor Righteous Teachers CD is expected to follow
  the Wise Intelligent CD.\n\nKillah Priest is a tangential associate o
 f the Wu-Tang Clan. The Brooklyn native made his first recorded appear
 ances on records by such Wu side projects and solo albums as the Grave
 diggaz, Ol' Dirty Bastard's Return to the 36 Chambers, and, most impor
 tantly, Genius/GZA's seminal Liquid Swords. His contributions became l
 egendary and paved the way for the release of his acclaimed debut albu
 m, Heavy Mental, in the spring of 1998. Born in Brooklyn and raised in
  Bedford-Stuyvesant and Brownsville, Killah Priest became infatuated w
 ith hip-hop as a child, listening to old-school and new school acts li
 ke Eric B. & Rakim alike. He also was influenced by local rappers, lik
 e Genius and Onyx's Suave, who would often play local parties. Killah 
 Priest began working on his rhyming and eventually earned a considerab
 le reputation in Brooklyn, but instead of pursuing his musical career 
 further, he took a sabbatical in order to educate himself, primarily a
 bout religion and history.\n\nFor more information visit https://trues
 kool.com/events/digable-planets-poor-righteous
DTSTART;TZID=America/Los_Angeles:20101126T220000
DTEND;TZID=America/Los_Angeles:20101127T030000
CATEGORIES:san, francisco, "ca."
LOCATION:Club Six
WEBSITE:http://www.clubsix1.com
URL:http://www.clubsix1.com
CONTACT:415-863-1221
ORGANIZER;CN=Cecily:https://trueskool.com/profile/Cecily
ATTACH;FMTTYPE="image/jpeg":http://storage.ning.com/topology/rest/1.0/
 file/get/2247887887?profile=original
ATTENDEE;ROLE=REQ-PARTICIPANT;PARTSTAT=ACCEPTED;RSVP=TRUE;CN=Cecily:ht
 tps://trueskool.com/profile/Cecily
END:VEVENT
END:VCALENDAR
