BEGIN:VCALENDAR
PRODID:NingEventWidget-v1
VERSION:2.0
METHOD:PUBLISH
BEGIN:VTIMEZONE
TZID:America/Los_Angeles
X-LIC-LOCATION:America/Los_Angeles
BEGIN:DAYLIGHT
TZOFFSETFROM:-0800
TZOFFSETTO:-0700
TZNAME:PDT
DTSTART:19700308T020000
RRULE:FREQ=YEARLY;BYMONTH=3;BYDAY=2SU
END:DAYLIGHT
BEGIN:STANDARD
TZOFFSETFROM:-0700
TZOFFSETTO:-0800
TZNAME:PST
DTSTART:19701101T020000
RRULE:FREQ=YEARLY;BYMONTH=11;BYDAY=1SU
END:STANDARD
END:VTIMEZONE
BEGIN:VEVENT
UID:1464587:Event:51093
DTSTAMP:20260421T220611Z
SUMMARY:Digable Planets: Butterfly & Doodlebug w/ Camp Lo (Win Tickets
 )
DESCRIPTION:CLICK HERE TO WIN A PAIR OF TICKETS\n\n\nTHURSDAY, MARCH 2
 5\nHolographicsupernova, Anarch Eighty, Silkz, Ankh Marketing & Ruby S
 kye present\nThe Beat of our Soul\n\nFeaturing Legendary Grammy Award 
 Winners\nDigable Planets\nfeaturing Dooglebug and Butterfly\n\nand und
 erground legends\nCamp Lo\n\nEach backed by the sultry locomotion of\n
 Daru Jones' Live Band\n\nOpening set by\nArchitex\n\n@ Ruby Skye, 420 
 Mason St., San Francisco\n21+. 9pm-2am. Buy Tickets\nInfo: http://www.
 rubyskye.com\n\n\nFor more information visit https://trueskool.com/eve
 nts/digable-planets-butterfly
DTSTART;TZID=America/Los_Angeles:20100325T210000
DTEND;TZID=America/Los_Angeles:20100326T020000
CATEGORIES:hip, hop
LOCATION:Ruby Skye, San Francisco, CA
WEBSITE:http://www.rubyskye.com
URL:http://www.rubyskye.com
CONTACT:
ORGANIZER:Ruby Skye
ATTACH;FMTTYPE="image/jpeg":http://storage.ning.com/topology/rest/1.0/
 file/get/2106907428?profile=original
ATTENDEE;ROLE=REQ-PARTICIPANT;PARTSTAT=ACCEPTED;RSVP=TRUE;CN="Editor's
  Pick":https://trueskool.com/profile/RentheVinylArchaeologist
END:VEVENT
END:VCALENDAR
