BEGIN:VCALENDAR
PRODID:NingEventWidget-v1
VERSION:2.0
METHOD:PUBLISH
BEGIN:VTIMEZONE
TZID:America/Los_Angeles
X-LIC-LOCATION:America/Los_Angeles
BEGIN:DAYLIGHT
TZOFFSETFROM:-0800
TZOFFSETTO:-0700
TZNAME:PDT
DTSTART:19700308T020000
RRULE:FREQ=YEARLY;BYMONTH=3;BYDAY=2SU
END:DAYLIGHT
BEGIN:STANDARD
TZOFFSETFROM:-0700
TZOFFSETTO:-0800
TZNAME:PST
DTSTART:19701101T020000
RRULE:FREQ=YEARLY;BYMONTH=11;BYDAY=1SU
END:STANDARD
END:VTIMEZONE
BEGIN:VEVENT
UID:1464587:Event:51090
DTSTAMP:20260421T190144Z
SUMMARY:Dig? A Funky Expedition through Music w/ Ren the Vinyl Archaeo
 logist
DESCRIPTION:\nFRIDAY, MARCH 26\nDig?\nA Funky Expedition through Music
 \n\nFeaturing:\nRen the Vinyl Archaeologist (True Skool)\nspins a 4-ho
 ur set of funk, soul, hip hop, electro, breaks & house!\n\n@ The Showd
 own, 10 - 6th St. (btwn Market & Mission), San Francisco\nNo cover, 21
 +, 10pm-2am\nInfo: http://www.trueskool.com\n\nFor more information vi
 sit https://trueskool.com/events/dig-a-funky-expedition-through-4
DTSTART;TZID=America/Los_Angeles:20100326T220000
DTEND;TZID=America/Los_Angeles:20100327T020000
CATEGORIES:hip, hop
LOCATION:The Showdown, San Francisco
WEBSITE:http://www.trueskool.com
URL:http://www.trueskool.com
CONTACT:
ORGANIZER:Ren the Vinyl Archaeologist
ATTACH;FMTTYPE="image/jpeg":http://storage.ning.com/topology/rest/1.0/
 file/get/2057414665?profile=original
ATTENDEE;ROLE=REQ-PARTICIPANT;PARTSTAT=ACCEPTED;RSVP=TRUE;CN="Editor's
  Pick":https://trueskool.com/profile/RentheVinylArchaeologist
END:VEVENT
END:VCALENDAR
