BEGIN:VCALENDAR
PRODID:NingEventWidget-v1
VERSION:2.0
METHOD:PUBLISH
BEGIN:VTIMEZONE
TZID:America/Los_Angeles
X-LIC-LOCATION:America/Los_Angeles
BEGIN:DAYLIGHT
TZOFFSETFROM:-0800
TZOFFSETTO:-0700
TZNAME:PDT
DTSTART:19700308T020000
RRULE:FREQ=YEARLY;BYMONTH=3;BYDAY=2SU
END:DAYLIGHT
BEGIN:STANDARD
TZOFFSETFROM:-0700
TZOFFSETTO:-0800
TZNAME:PST
DTSTART:19701101T020000
RRULE:FREQ=YEARLY;BYMONTH=11;BYDAY=1SU
END:STANDARD
END:VTIMEZONE
BEGIN:VEVENT
UID:1464587:Event:54704
DTSTAMP:20260421T050727Z
SUMMARY:Dig? A Funky Expedition through Music ft. Ren the Vinyl Archae
 ologist
DESCRIPTION:\nFRIDAY, JUNE 25\nDig?\nA Funky Expedition through Music\
 n\nFeaturing:\nRen the Vinyl Archaeologist\nspinning a 4-hour set of h
 ip hop, electro, old school, breaks, house and electro funk.\n\n@ Show
 down, 10-6th St., San Francisco\n10pm-2am, No cover, 21+ w/ ID\nInfo: 
 http://www.trueskool.com\nABOUT REN THE VINYL ARCHAEOLOGIST As a bay a
 rea resident (by way of New York), Ren the Vinyl Archaeologist made hi
 s mark by curating top notch events featuring hip hop legends and supp
 orting independent artists from the Bay and beyond. In 2000, his True 
 Skool events won the \"Best of the Bay\" in the SF Bay Guardian. Ren h
 as appeared on numerous publications, such as the XLR8R, 7x7, SF Weekl
 y, SF Examiner, Mugshot and SF Magazine, to name a few. Since True Sko
 ol's inception in 1999, his online magazine and newsletter has served 
 as a resource that covers hip hop history, politics, emerging artists 
 and events. As a DJ, he has shared bills with world-renowned artists s
 uch as Grandmaster Flash, Jazzy Jeff, Kool Herc, Afrika Bambaataa, Koo
 l DJ Red Alert, Q-Bert, Cut Chemist, DJ Premier, Wu-Tang Clan, Lupe Fi
 asco, Ali Shaheed Muhammad (A Tribe Called Quest), Michael Franti & Sp
 earhead, Lyrics Born, Masta Ace, Biz Markie, Dilated Peoples, The Coup
 , KRS-One, Pharcyde, DJ Bobbito, DJ Cash Money and the list goes on. H
 is diverse selections are influenced by his east coast background, fro
 m b-boying in the early 80s to attending house parties and New York Ci
 ty clubs. Ren is a professional party rocker who can put it down among
  the best of them with a vast arsenal of vinyl weapons to drop on any 
 dancefloor, ranging from hip hop & soul to electro, house and breaks t
 o trip hop and acid jazz. In addition, he has appeared at Michael Fran
 ti & Spearhead's annual \"9-11 Power to the Peaceful Festival\", TV-20
 's \"Distortion2Static\" hip hop show, Myx.tv's \"Built from Scratch\"
  and KPFA's Hardknock Radio. MYSPACE: http://www.myspace.com/trueskool
  TWITTER: http://www.twitter.com/trueskoolsf WEBSITE: http://www.trues
 kool.com\n\nFor more information visit https://trueskool.com/events/di
 g-a-funky-expedition-through-1
DTSTART;TZID=America/Los_Angeles:20100625T220000
DTEND;TZID=America/Los_Angeles:20100626T020000
CATEGORIES:hip, hop, classics
LOCATION:The Showdown, San Francisco, CA
WEBSITE:http://maps.google.com/maps?f=q&source=s_q&hl=en&geocode=&q=10
 +6th+st.,+san+francisco&sll=37.0625,-95.677068&sspn=37.871902,79.01367
 2&ie=UTF8&hq=&hnear=10+6th+St,+San+Francisco,+California+94103&z=16&la
 yer=t
URL:http://maps.google.com/maps?f=q&source=s_q&hl=en&geocode=&q=10+6th
 +st.,+san+francisco&sll=37.0625,-95.677068&sspn=37.871902,79.013672&ie
 =UTF8&hq=&hnear=10+6th+St,+San+Francisco,+California+94103&z=16&layer=
 t
CONTACT:
ORGANIZER;CN="Ren the Vinyl Archaeologist":https://trueskool.com/profi
 le/xh51jvilojur
ATTACH;FMTTYPE="image/jpeg":http://storage.ning.com/topology/rest/1.0/
 file/get/2106907087?profile=original
ATTENDEE;ROLE=REQ-PARTICIPANT;PARTSTAT=ACCEPTED;RSVP=TRUE;CN="Ren the 
 Vinyl Archaeologist":https://trueskool.com/profile/xh51jvilojur
END:VEVENT
END:VCALENDAR
