BEGIN:VCALENDAR
PRODID:NingEventWidget-v1
VERSION:2.0
METHOD:PUBLISH
BEGIN:VTIMEZONE
TZID:America/Los_Angeles
X-LIC-LOCATION:America/Los_Angeles
BEGIN:DAYLIGHT
TZOFFSETFROM:-0800
TZOFFSETTO:-0700
TZNAME:PDT
DTSTART:19700308T020000
RRULE:FREQ=YEARLY;BYMONTH=3;BYDAY=2SU
END:DAYLIGHT
BEGIN:STANDARD
TZOFFSETFROM:-0700
TZOFFSETTO:-0800
TZNAME:PST
DTSTART:19701101T020000
RRULE:FREQ=YEARLY;BYMONTH=11;BYDAY=1SU
END:STANDARD
END:VTIMEZONE
BEGIN:VEVENT
UID:1464587:Event:228750
DTSTAMP:20260421T093318Z
SUMMARY:Diana Ross (MIAMI)
DESCRIPTION:\nHard Rock Live OrlandoOrlando, FL08:00 PM\n\nDiana Ross
 \nFind Tickets »\n\n\n\n\nFor more information visit https://truesko
 ol.com/events/diana-ross-miami
DTSTART;TZID=America/Los_Angeles:20130903T200000
DTEND;TZID=America/Los_Angeles:20130903T230000
CATEGORIES:orlando, fl
LOCATION:Hard Rock Live, Orlando
WEBSITE:http://www.ticketmaster.com/diana-ross-orlando-florida-09-03-2
 013/event/22004AA104CC6A4C?artistid=736009&majorcatid=10001&minorcatid
 =202
URL:http://www.ticketmaster.com/diana-ross-orlando-florida-09-03-2013/
 event/22004AA104CC6A4C?artistid=736009&majorcatid=10001&minorcatid=202
CONTACT:
ORGANIZER;CN="Editor's Pick":https://trueskool.com/profile/RentheVinyl
 Archaeologist
ATTACH;FMTTYPE="image/jpeg":http://storage.ning.com/topology/rest/1.0/
 file/get/2247944074?profile=original
ATTENDEE;ROLE=REQ-PARTICIPANT;PARTSTAT=ACCEPTED;RSVP=TRUE;CN="Editor's
  Pick":https://trueskool.com/profile/RentheVinylArchaeologist
END:VEVENT
END:VCALENDAR
