BEGIN:VCALENDAR
PRODID:NingEventWidget-v1
VERSION:2.0
METHOD:PUBLISH
BEGIN:VTIMEZONE
TZID:America/Los_Angeles
X-LIC-LOCATION:America/Los_Angeles
BEGIN:DAYLIGHT
TZOFFSETFROM:-0800
TZOFFSETTO:-0700
TZNAME:PDT
DTSTART:19700308T020000
RRULE:FREQ=YEARLY;BYMONTH=3;BYDAY=2SU
END:DAYLIGHT
BEGIN:STANDARD
TZOFFSETFROM:-0700
TZOFFSETTO:-0800
TZNAME:PST
DTSTART:19701101T020000
RRULE:FREQ=YEARLY;BYMONTH=11;BYDAY=1SU
END:STANDARD
END:VTIMEZONE
BEGIN:VEVENT
UID:1464587:Event:228555
DTSTAMP:20260421T110723Z
SUMMARY:Diana Ross (MIAMI)
DESCRIPTION:\nHard Rock LiveHollywood, FL08:00 PM\n\nDiana Ross\nFind
  Tickets »\n\n\n\n\nFor more information visit https://trueskool.com
 /events/diana-ross-miami-1
DTSTART;TZID=America/Los_Angeles:20130904T200000
DTEND;TZID=America/Los_Angeles:20130904T230000
CATEGORIES:hollywood, fl
LOCATION:Hard Rock Live, Hollywood,  FL
WEBSITE:http://www.ticketmaster.com/Hard-Rock-Live-tickets-Hollywood/v
 enue/107337
URL:http://www.ticketmaster.com/Hard-Rock-Live-tickets-Hollywood/venue
 /107337
CONTACT:
ORGANIZER;CN="Editor's Pick":https://trueskool.com/profile/RentheVinyl
 Archaeologist
ATTACH;FMTTYPE="image/jpeg":http://storage.ning.com/topology/rest/1.0/
 file/get/2247944074?profile=original
ATTENDEE;ROLE=REQ-PARTICIPANT;PARTSTAT=ACCEPTED;RSVP=TRUE;CN="Editor's
  Pick":https://trueskool.com/profile/RentheVinylArchaeologist
END:VEVENT
END:VCALENDAR
