BEGIN:VCALENDAR
PRODID:NingEventWidget-v1
VERSION:2.0
METHOD:PUBLISH
BEGIN:VTIMEZONE
TZID:America/Los_Angeles
X-LIC-LOCATION:America/Los_Angeles
BEGIN:DAYLIGHT
TZOFFSETFROM:-0800
TZOFFSETTO:-0700
TZNAME:PDT
DTSTART:19700308T020000
RRULE:FREQ=YEARLY;BYMONTH=3;BYDAY=2SU
END:DAYLIGHT
BEGIN:STANDARD
TZOFFSETFROM:-0700
TZOFFSETTO:-0800
TZNAME:PST
DTSTART:19701101T020000
RRULE:FREQ=YEARLY;BYMONTH=11;BYDAY=1SU
END:STANDARD
END:VTIMEZONE
BEGIN:VEVENT
UID:1464587:Event:630112
DTSTAMP:20260422T121005Z
SUMMARY:Diamond Lung, bE! & Champlu, Maitre'D, Space Cadet
DESCRIPTION:: FRI 6/5 @GurpCity & TeamWino present Vintage: @Diamond_L
 ung @justbE_CUE @Champlu_CUE @MikeCtheMaitreD @el_space_cadet Live @11
 92Folsom SF CA\n\nFor more information visit https://trueskool.com/eve
 nts/diamond-lung-be-champlu-maitre-d-space-cadet
DTSTART;TZID=America/Los_Angeles:20150605T170000
DTEND;TZID=America/Los_Angeles:20150605T210000
CATEGORIES:"san francisco"
LOCATION:1192 Folsom , San Francisco
WEBSITE:http://twitter.com/bryconmusic
URL:http://twitter.com/bryconmusic
CONTACT:
ORGANIZER;CN=Brycon:https://trueskool.com/profile/GabrielKahn
ATTACH;FMTTYPE="image/jpeg":http://storage.ning.com/topology/rest/1.0/
 file/get/2247976549?profile=original
ATTENDEE;ROLE=REQ-PARTICIPANT;PARTSTAT=ACCEPTED;RSVP=TRUE;CN=Brycon:ht
 tps://trueskool.com/profile/GabrielKahn
END:VEVENT
END:VCALENDAR
