BEGIN:VCALENDAR
PRODID:NingEventWidget-v1
VERSION:2.0
METHOD:PUBLISH
BEGIN:VTIMEZONE
TZID:America/Los_Angeles
X-LIC-LOCATION:America/Los_Angeles
BEGIN:DAYLIGHT
TZOFFSETFROM:-0800
TZOFFSETTO:-0700
TZNAME:PDT
DTSTART:19700308T020000
RRULE:FREQ=YEARLY;BYMONTH=3;BYDAY=2SU
END:DAYLIGHT
BEGIN:STANDARD
TZOFFSETFROM:-0700
TZOFFSETTO:-0800
TZNAME:PST
DTSTART:19701101T020000
RRULE:FREQ=YEARLY;BYMONTH=11;BYDAY=1SU
END:STANDARD
END:VTIMEZONE
BEGIN:VEVENT
UID:1464587:Event:276510
DTSTAMP:20260421T050656Z
SUMMARY:Di Rum Shop
DESCRIPTION:NKC BRINGS YOU A CARIBBEAN HAPPY HOUR FEAT. LIVE BANDS . D
 JS. STEEL DRUMS\nEVERY WEEK THERE IS DIFFERENT ENTERTAINMENT\nTHIS WEE
 K WE HAVE A DJ SPINNING ALL THE 2014 SOCA HITS FOR CARNIVAL 2014\nCOME
  CHECK OUT ALL THE NEW HOT SONGS FOR NEXT YEAR’S TNT CARNIVAL\n\nFor
  more information visit https://trueskool.com/events/di-rum-shop
DTSTART;TZID=America/Los_Angeles:20131129T160000
DTEND;TZID=America/Los_Angeles:20131129T220000
CATEGORIES:caribbean, rums, beers, and, food
LOCATION:NEW KARIBBEAN CITY,Oakland, CA
WEBSITE:
URL:
CONTACT:510-282-6898
ORGANIZER;CN="S.F.Promo":https://trueskool.com/profile/sfpromo
ATTACH;FMTTYPE="image/jpeg":http://storage.ning.com/topology/rest/1.0/
 file/get/2247954567?profile=original
ATTENDEE;ROLE=REQ-PARTICIPANT;PARTSTAT=ACCEPTED;RSVP=TRUE;CN="S.F.Prom
 o":https://trueskool.com/profile/sfpromo
END:VEVENT
END:VCALENDAR
