BEGIN:VCALENDAR
PRODID:NingEventWidget-v1
VERSION:2.0
METHOD:PUBLISH
BEGIN:VTIMEZONE
TZID:America/Los_Angeles
X-LIC-LOCATION:America/Los_Angeles
BEGIN:DAYLIGHT
TZOFFSETFROM:-0800
TZOFFSETTO:-0700
TZNAME:PDT
DTSTART:19700308T020000
RRULE:FREQ=YEARLY;BYMONTH=3;BYDAY=2SU
END:DAYLIGHT
BEGIN:STANDARD
TZOFFSETFROM:-0700
TZOFFSETTO:-0800
TZNAME:PST
DTSTART:19701101T020000
RRULE:FREQ=YEARLY;BYMONTH=11;BYDAY=1SU
END:STANDARD
END:VTIMEZONE
BEGIN:VEVENT
UID:1464587:Event:660761
DTSTAMP:20260422T032526Z
SUMMARY:Devin the Dude
DESCRIPTION:\nDevin Copeland (born June 4, 1970),better known by his s
 tage name Devin the Dude, is a Houston hip hop artist who started out 
 as a member of the Odd Squad, later known as the Coughee Brothaz, a gr
 oup of rappers signed to Rap-A-Lot Records. The label is notable for 
 being the home of hip-hop artists such as Geto Boys, Scarface, and Too
  Much Trouble. Devin Copeland moved on to become part of Scarface's Fa
 cemob, who is also a member of the Coughee Brothaz, before going solo 
 in 1998. Copeland has released six solo albums: “The Dude” 1998),
  “Just Tryin' ta Live” (2002), “To tha X-Treme” (2004), “Wai
 tin' to Inhale” (2007), “Landing Gear” (2008), and “Suite 420
  (2010). He also made a number of guest appearances, including on Dr
 . Dre's \"Fuck You\" in 1999, and De La Soul's \"Baby Phat\" in 2001, 
 and on Tech N9ne's \"After Party\" 2010 off of The Gates Mixed Plate.
 In 2008, he ended his 15 year relationship with Houston based Rap-A-L
 ot Records after he decided not to renew his contract. Later that year
 , he signed with indie label Razor & Tie. Devin is currently being dis
 tributed by E1 Entertainment, formerly Koch. Despite being a critical 
 success, Devin the Dude has not achieved success in the mainstream but
  continues to be a well-known underground hip-hop artist. The “New Y
 ork Times” has called him \"A brilliant oddball with a spaced-out fl
 ow.\" In addition, he has been called \"Rap's best-kept secret\" and 
 \"Your favorite rapper's favorite rapper.\" In 2007, he appeared in a 
 documentary titled “Screwed In Houston” produced by VBS/Vice Magaz
 ine that details the history of the Houston rap scene.\n\n \n\n\n\n\n
 \n\n\nFor more information visit https://trueskool.com/events/devin-th
 e-dude-1
DTSTART;TZID=America/Los_Angeles:20170508T200000
DTEND;TZID=America/Los_Angeles:20170509T000000
CATEGORIES:"san francisco", "bay area", oakland
LOCATION:Complex, Oakland,CA
WEBSITE:https://devinthedudecomplexoakland.eventbrite.com
URL:https://devinthedudecomplexoakland.eventbrite.com
CONTACT:
ORGANIZER:ComplexOakland
ATTACH;FMTTYPE="image/jpeg":
ATTENDEE;ROLE=REQ-PARTICIPANT;PARTSTAT=ACCEPTED;RSVP=TRUE;CN="Tom Comp
 lexOakland":https://trueskool.com/profile/TomComplexOakland
END:VEVENT
END:VCALENDAR
