BEGIN:VCALENDAR
PRODID:NingEventWidget-v1
VERSION:2.0
METHOD:PUBLISH
BEGIN:VTIMEZONE
TZID:America/Los_Angeles
X-LIC-LOCATION:America/Los_Angeles
BEGIN:DAYLIGHT
TZOFFSETFROM:-0800
TZOFFSETTO:-0700
TZNAME:PDT
DTSTART:19700308T020000
RRULE:FREQ=YEARLY;BYMONTH=3;BYDAY=2SU
END:DAYLIGHT
BEGIN:STANDARD
TZOFFSETFROM:-0700
TZOFFSETTO:-0800
TZNAME:PST
DTSTART:19701101T020000
RRULE:FREQ=YEARLY;BYMONTH=11;BYDAY=1SU
END:STANDARD
END:VTIMEZONE
BEGIN:VEVENT
UID:1464587:Event:41781
DTSTAMP:20260421T002822Z
SUMMARY:Devil's Pie SF
DESCRIPTION:DJ Phatrick created Devil's Pie 2 years ago at Namu Bar in
  San Francisco, with a vision of a monthly soul party for the communit
 y to vibe and break pie, (or cake) together! Tribute nights and battli
 ng artists in a live mix (along with free dessert), has become a signa
 ture treat for guests, who can expect nothing but the tastiest of \"..
 .soul by the slice...\" at Devil's Pie.\n\nWith DJ Phatrick now callin
 g Los Angeles home, Devil's Pie LA was created in Spring 09 at Verdugo
  Bar along with resident DJ Roza, and brings the same treats in music 
 and sweets, to our extended community down south.\n\nJoin the DPSF fam
 ily, DO. D.A.T, DJ un.d.fine, DJ Wonway, Papa Lo, and honorary guest D
 J Phatrick on Thursday October 29, 2009 for our 2nd Birthday at Namu B
 ar!\n\nFor more information visit https://trueskool.com/events/devils-
 pie-sf
DTSTART;TZID=America/Los_Angeles:20091019T180000
DTEND;TZID=America/Los_Angeles:20091019T190000
CATEGORIES:soul, hip, hop, funk
LOCATION:Namu Bar, San Francisco, CA
WEBSITE:http://www.devilspiesoul.com
URL:http://www.devilspiesoul.com
CONTACT:
ORGANIZER;CN="Papa Lo Down":https://trueskool.com/profile/PapaLoDown
ATTACH;FMTTYPE="image/jpeg":http://storage.ning.com/topology/rest/1.0/
 file/get/2247866941?profile=original
ATTENDEE;ROLE=REQ-PARTICIPANT;PARTSTAT=ACCEPTED;RSVP=TRUE;CN="Papa Lo 
 Down":https://trueskool.com/profile/PapaLoDown
END:VEVENT
END:VCALENDAR
