BEGIN:VCALENDAR
PRODID:NingEventWidget-v1
VERSION:2.0
METHOD:PUBLISH
BEGIN:VTIMEZONE
TZID:America/Los_Angeles
X-LIC-LOCATION:America/Los_Angeles
BEGIN:DAYLIGHT
TZOFFSETFROM:-0800
TZOFFSETTO:-0700
TZNAME:PDT
DTSTART:19700308T020000
RRULE:FREQ=YEARLY;BYMONTH=3;BYDAY=2SU
END:DAYLIGHT
BEGIN:STANDARD
TZOFFSETFROM:-0700
TZOFFSETTO:-0800
TZNAME:PST
DTSTART:19701101T020000
RRULE:FREQ=YEARLY;BYMONTH=11;BYDAY=1SU
END:STANDARD
END:VTIMEZONE
BEGIN:VEVENT
UID:1464587:Event:41922
DTSTAMP:20260421T051943Z
SUMMARY:DEVIL'S PIE 2 YR. ANNIVERSARY
DESCRIPTION:\n\nDJ Phatrick created Devil's Pie 2 years ago at Namu Ba
 r in San Francisco, with a vision of a monthly soul party for the comm
 unity to vibe and break pie, (or cake) together! Tribute nights and ba
 ttling artists in a live mix (along with free dessert), has become a s
 ignature treat for guests, who can expect nothing but the tastiest of 
 \"...soul by the slice...\" at Devil's Pie.\n\nWith DJ Phatrick now ca
 lling Los Angeles home, Devil's Pie LA was created in Spring 09 at Ver
 dugo Bar along with resident DJ Roza, and brings the same treats in mu
 sic and sweets, to our extended community down south.\n\nJoin the DPSF
  family, DO. D.A.T, DJ un.d.fine, DJ Wonway, Papa Lo, and honorary gue
 st DJ Phatrick on Thursday October 29, 2009 for our 2nd Birthday at Na
 mu Bar!\n\nmore info - www.devilspiesoul.com\n\nFor more information v
 isit https://trueskool.com/events/devils-pie-2-yr-anniversary
DTSTART;TZID=America/Los_Angeles:20091029T223000
DTEND;TZID=America/Los_Angeles:20091030T133000
CATEGORIES:soul
LOCATION:NAMU BAR, SF
WEBSITE:http://www.devilspiesoul.com
URL:http://www.devilspiesoul.com
CONTACT:
ORGANIZER;CN="dj undfine":https://trueskool.com/profile/djundfine
ATTACH;FMTTYPE="image/jpeg":http://storage.ning.com/topology/rest/1.0/
 file/get/2247866941?profile=original
ATTENDEE;ROLE=REQ-PARTICIPANT;PARTSTAT=ACCEPTED;RSVP=TRUE;CN="dj undfi
 ne":https://trueskool.com/profile/djundfine
END:VEVENT
END:VCALENDAR
