BEGIN:VCALENDAR
PRODID:NingEventWidget-v1
VERSION:2.0
METHOD:PUBLISH
BEGIN:VTIMEZONE
TZID:America/Los_Angeles
X-LIC-LOCATION:America/Los_Angeles
BEGIN:DAYLIGHT
TZOFFSETFROM:-0800
TZOFFSETTO:-0700
TZNAME:PDT
DTSTART:19700308T020000
RRULE:FREQ=YEARLY;BYMONTH=3;BYDAY=2SU
END:DAYLIGHT
BEGIN:STANDARD
TZOFFSETFROM:-0700
TZOFFSETTO:-0800
TZNAME:PST
DTSTART:19701101T020000
RRULE:FREQ=YEARLY;BYMONTH=11;BYDAY=1SU
END:STANDARD
END:VTIMEZONE
BEGIN:VEVENT
UID:1464587:Event:69529
DTSTAMP:20260420T194441Z
SUMMARY:Delta 9 and Presents Swollen Members w/ Special Guests Saigon
DESCRIPTION:More Info Delta 9ine Brings you Swollen Members w/ Special
  Guests Saigon\nto the Rockit Room in SF. Swollen is starting off ther
 e winter tour in California and have added the East Coast Rapper Saigo
 n (Entourage) to the lineup.\nSaigon has worked with Swizz Beats, Jay-
 Z, Just Blaze to name a few..\n\nCome out early to check out local Bay
  Area artists XienHow w/ Canibal Lecture along with Delta 9 Records ar
 tist Chuck Dimes.\n\nWhen: Friday November 12th\nDoors 9pm Music @ 10p
 m\n$12 Pre sale tickets available online at inticketing.com and The Ro
 ckit Room. More pre sale locations to be added.\n$15 at the Door!\n\nC
 heck out their music @\n\nmyspace.com/swollenmembers\nmyspace.com/thay
 ardfathar\nsaigonnation.com\n\nmyspace.com/xienhow\nmyspace.com/caniba
 llecture\nmyspace.com/chuckdimes\ndelta9ine.com\nfacebook.com/d9entert
 ainment\nmyspace.com/d9experiment\n\nFor more information visit https:
 //trueskool.com/events/delta-9-and-presents-swollen
DTSTART;TZID=America/Los_Angeles:20101112T213000
DTEND;TZID=America/Los_Angeles:20101113T020000
CATEGORIES:san, francisco, ca
LOCATION:ROCKIT - ROOM
WEBSITE:http://www.rock-it-room.com
URL:http://www.rock-it-room.com
CONTACT:
ORGANIZER:Delta 9
ATTACH;FMTTYPE="image/jpeg":http://storage.ning.com/topology/rest/1.0/
 file/get/2247886113?profile=original
ATTENDEE;ROLE=REQ-PARTICIPANT;PARTSTAT=ACCEPTED;RSVP=TRUE;CN=XienHow:h
 ttps://trueskool.com/profile/XienHow
END:VEVENT
END:VCALENDAR
