BEGIN:VCALENDAR
PRODID:NingEventWidget-v1
VERSION:2.0
METHOD:PUBLISH
BEGIN:VTIMEZONE
TZID:America/Los_Angeles
X-LIC-LOCATION:America/Los_Angeles
BEGIN:DAYLIGHT
TZOFFSETFROM:-0800
TZOFFSETTO:-0700
TZNAME:PDT
DTSTART:19700308T020000
RRULE:FREQ=YEARLY;BYMONTH=3;BYDAY=2SU
END:DAYLIGHT
BEGIN:STANDARD
TZOFFSETFROM:-0700
TZOFFSETTO:-0800
TZNAME:PST
DTSTART:19701101T020000
RRULE:FREQ=YEARLY;BYMONTH=11;BYDAY=1SU
END:STANDARD
END:VTIMEZONE
BEGIN:VEVENT
UID:1464587:Event:36790
DTSTAMP:20260421T020339Z
SUMMARY:DELOREAN X URBAN OUTFITTERS SACRAMENTO
DESCRIPTION:DELOREAN listening party at URBAN OUTFITTERS SACRAMENTO! Y
 ou won't wanna miss this instore! Grab your copy of \"No More Heroes\"
  album. Selling out fast! www.delorean916.com\n\nFor more information 
 visit https://trueskool.com/events/delorean-x-urban-outfitters
DTSTART;TZID=America/Los_Angeles:20090801T130000
DTEND;TZID=America/Los_Angeles:20090801T150000
CATEGORIES:listening, party
LOCATION:Urban Outfitters Sacramento
WEBSITE:http://www.delorean916.com
URL:http://www.delorean916.com
CONTACT:916*267*1117
ORGANIZER;CN=Kananimac:https://trueskool.com/profile/Kananimac
ATTACH;FMTTYPE="image/jpeg":http://storage.ning.com/topology/rest/1.0/
 file/get/2247861800?profile=original
ATTENDEE;ROLE=REQ-PARTICIPANT;PARTSTAT=ACCEPTED;RSVP=TRUE;CN=Kananimac
 :https://trueskool.com/profile/Kananimac
END:VEVENT
END:VCALENDAR
