BEGIN:VCALENDAR
PRODID:NingEventWidget-v1
VERSION:2.0
METHOD:PUBLISH
BEGIN:VTIMEZONE
TZID:America/Los_Angeles
X-LIC-LOCATION:America/Los_Angeles
BEGIN:DAYLIGHT
TZOFFSETFROM:-0800
TZOFFSETTO:-0700
TZNAME:PDT
DTSTART:19700308T020000
RRULE:FREQ=YEARLY;BYMONTH=3;BYDAY=2SU
END:DAYLIGHT
BEGIN:STANDARD
TZOFFSETFROM:-0700
TZOFFSETTO:-0800
TZNAME:PST
DTSTART:19701101T020000
RRULE:FREQ=YEARLY;BYMONTH=11;BYDAY=1SU
END:STANDARD
END:VTIMEZONE
BEGIN:VEVENT
UID:1464587:Event:31221
DTSTAMP:20260421T083108Z
SUMMARY:Del Tha Funky Homosapien
DESCRIPTION:A Live Nation Concert\n\nDel Tha Funky Homosapien\nAll Age
 s\nFriday 06/05/09 at 9:00 PM\nThe Fillmore\n1805 Geary Boulevard\nSan
  Francisco, CA 94115\n(415) 346-6000\n\nFor more information visit htt
 ps://trueskool.com/events/del-tha-funky-homosapien
DTSTART;TZID=America/Los_Angeles:20090605T210000
DTEND;TZID=America/Los_Angeles:20090606T000000
CATEGORIES:hip, hop
LOCATION:The Fillmore, San Francisco, CA
WEBSITE:http://www.livenation.com/edp/eventId/407191
URL:http://www.livenation.com/edp/eventId/407191
CONTACT:
ORGANIZER:Live Nation
ATTACH;FMTTYPE="image/jpeg":http://storage.ning.com/topology/rest/1.0/
 file/get/2247855881?profile=original
ATTENDEE;ROLE=REQ-PARTICIPANT;PARTSTAT=ACCEPTED;RSVP=TRUE;CN=Deanna:ht
 tps://trueskool.com/profile/Deanna
ATTENDEE;ROLE=REQ-PARTICIPANT;PARTSTAT=ACCEPTED;RSVP=TRUE;CN="Editor's
  Pick":https://trueskool.com/profile/RentheVinylArchaeologist
END:VEVENT
END:VCALENDAR
