BEGIN:VCALENDAR
PRODID:NingEventWidget-v1
VERSION:2.0
METHOD:PUBLISH
BEGIN:VTIMEZONE
TZID:America/Los_Angeles
X-LIC-LOCATION:America/Los_Angeles
BEGIN:DAYLIGHT
TZOFFSETFROM:-0800
TZOFFSETTO:-0700
TZNAME:PDT
DTSTART:19700308T020000
RRULE:FREQ=YEARLY;BYMONTH=3;BYDAY=2SU
END:DAYLIGHT
BEGIN:STANDARD
TZOFFSETFROM:-0700
TZOFFSETTO:-0800
TZNAME:PST
DTSTART:19701101T020000
RRULE:FREQ=YEARLY;BYMONTH=11;BYDAY=1SU
END:STANDARD
END:VTIMEZONE
BEGIN:VEVENT
UID:1464587:Event:275893
DTSTAMP:20260420T193414Z
SUMMARY:Def Squad (NYC)
DESCRIPTION:\nDef Squad ft. Keith Murray, Eric Sermon & Redman - Music
  by Funk Flex\n\n\nB.B. King Blues Club and GrillNew York, NY\nFri, 1
 2/27/1309:00 PM\n Find  Tickets\n\n\n\n\nFor more information visit 
 https://trueskool.com/events/def-squad-nyc
DTSTART;TZID=America/Los_Angeles:20131227T210000
DTEND;TZID=America/Los_Angeles:20131227T230000
CATEGORIES:nyc
LOCATION:B.B. King Blues Club and Grill, New York
WEBSITE:http://www.ticketmaster.com/Def-Squad-tickets/artist/723612
URL:http://www.ticketmaster.com/Def-Squad-tickets/artist/723612
CONTACT:
ORGANIZER;CN="Editor's Pick":https://trueskool.com/profile/RentheVinyl
 Archaeologist
ATTACH;FMTTYPE="image/jpeg":http://storage.ning.com/topology/rest/1.0/
 file/get/2247954408?profile=original
ATTENDEE;ROLE=REQ-PARTICIPANT;PARTSTAT=ACCEPTED;RSVP=TRUE;CN="Editor's
  Pick":https://trueskool.com/profile/RentheVinylArchaeologist
END:VEVENT
END:VCALENDAR
