BEGIN:VCALENDAR
PRODID:NingEventWidget-v1
VERSION:2.0
METHOD:PUBLISH
BEGIN:VTIMEZONE
TZID:America/Los_Angeles
X-LIC-LOCATION:America/Los_Angeles
BEGIN:DAYLIGHT
TZOFFSETFROM:-0800
TZOFFSETTO:-0700
TZNAME:PDT
DTSTART:19700308T020000
RRULE:FREQ=YEARLY;BYMONTH=3;BYDAY=2SU
END:DAYLIGHT
BEGIN:STANDARD
TZOFFSETFROM:-0700
TZOFFSETTO:-0800
TZNAME:PST
DTSTART:19701101T020000
RRULE:FREQ=YEARLY;BYMONTH=11;BYDAY=1SU
END:STANDARD
END:VTIMEZONE
BEGIN:VEVENT
UID:1464587:Event:62073
DTSTAMP:20260421T022332Z
SUMMARY:DeeCee's Soul Shakedown  7-Year Anniversary Bash w/ J Davey, H
 onor Roll, Los Rakas, plus many more...
DESCRIPTION:\nSATURDAY, JULY 31\nDeeCee's Soul Shakedown\n7-Year Anniv
 ersary Bash\nCelebrating 7 years of party production in the Bay Area\n
 \nRoom 1 : live, hip-hop, electro funk, future soul\nspecial DJ set by
 \nJ*Davey aka Black Morris featuring Miss Jack Davey & Brook D'Leau (L
 A)\nThe Honor Roll (HNRL) feat. Trackademicks, 1-O.A.K., Josie Stingra
 y, Spank Pops, Mike Baker the Bike Maker & DJ Tap.10\nLos Rakas (Panam
 a/Oakland)\n\nRoom 2 : dancehall, reggae, remixes\nIrie Dole & I-Vier 
 (Jah Warrior Shelter Hi-Fi)\nDans One (Broken Silence Sound)\nGreen B 
 & Daneekah (Cooyah)\nMr. E (Papalote Hi-Fi)\nSmoke One (King of Kings/
 One Blood)\nHenroc (City Cat Sound)\nC-Money & Octagon (Guerrilla Take
 over Sound/ Mendocino)\nTesfa (Reggae Sundays/ San Jose)\n\nRoom 3 : h
 ip-hop, miami booty bass, dancefloor classics \nSake One (PST)\nPam T
 he Funkstress (The Coup/B.A.S.S)\nAnt One (Wild N Krazy Kids)\nDJ Zita
  (B.A.S.S)\nDJ Theory (Fever)\nRen The Vinyl Archaeologist (True Skool
 )\nChicken Skratch (Bad Decisions)\n\nClub Six, 60 6th Street, San Fra
 ncisco\n21+ w/ID. 9PM - 4AM.\nSend full name to deecee3@hotmail.com fo
 r FREE entry before 10PM and VIP pre-party access\n$5 before 11 $10 be
 fore midnight $15 after\n2 for 1 drinks 9PM - 10:30PM\n\nFor more info
 rmation visit https://trueskool.com/events/deecees-soul-shakedown-7yea
 r
DTSTART;TZID=America/Los_Angeles:20100731T210000
DTEND;TZID=America/Los_Angeles:20100801T020000
CATEGORIES:hip, hop, reggae, dancehall, electro, funk, soul, future
LOCATION:Club Six, San Francisco
WEBSITE:http://www.clubsix1.com
URL:http://www.clubsix1.com
CONTACT:
ORGANIZER:DC Soul Shakedown
ATTACH;FMTTYPE="image/jpeg":http://storage.ning.com/topology/rest/1.0/
 file/get/2247882118?profile=original
ATTENDEE;ROLE=REQ-PARTICIPANT;PARTSTAT=ACCEPTED;RSVP=TRUE;CN="Ren the 
 Vinyl Archaeologist":https://trueskool.com/profile/xh51jvilojur
END:VEVENT
END:VCALENDAR
