BEGIN:VCALENDAR
PRODID:NingEventWidget-v1
VERSION:2.0
METHOD:PUBLISH
BEGIN:VTIMEZONE
TZID:America/Los_Angeles
X-LIC-LOCATION:America/Los_Angeles
BEGIN:DAYLIGHT
TZOFFSETFROM:-0800
TZOFFSETTO:-0700
TZNAME:PDT
DTSTART:19700308T020000
RRULE:FREQ=YEARLY;BYMONTH=3;BYDAY=2SU
END:DAYLIGHT
BEGIN:STANDARD
TZOFFSETFROM:-0700
TZOFFSETTO:-0800
TZNAME:PST
DTSTART:19701101T020000
RRULE:FREQ=YEARLY;BYMONTH=11;BYDAY=1SU
END:STANDARD
END:VTIMEZONE
BEGIN:VEVENT
UID:1464587:Event:671324
DTSTAMP:20260421T195504Z
SUMMARY:Dee-1 Slingshot David Tour (NYC)
DESCRIPTION:Dee-1 Slingshot David Tour\r\nFri Jan 26 2018 7:30 PM (Doo
 rs 7:00 PM)\r\nAmerican Beauty NYC 251 West 30th Street New York, NY 1
 0001 $13.00 Ages 16 & UP\n\nFor more information visit https://truesko
 ol.com/events/dee-1-slingshot-david-tour
DTSTART;TZID=America/Los_Angeles:20180126T193000
DTEND;TZID=America/Los_Angeles:20180126T230000
CATEGORIES:"new york", "new jersey", connecticut, tri-state, nyc
LOCATION:American Beauty, NYC
WEBSITE:https://www.ticketweb.com/event/dee-1-slingshot-david-tour-ame
 rican-beauty-nyc-tickets/7843475?REFERRAL_ID=tmfeed&amp;amp;amp;crosss
 ite=TM_US:1500079:339766
URL:https://www.ticketweb.com/event/dee-1-slingshot-david-tour-america
 n-beauty-nyc-tickets/7843475?REFERRAL_ID=tmfeed&amp;amp;amp;crosssite=
 TM_US:1500079:339766
CONTACT:
ORGANIZER;CN="Editor's Pick":https://trueskool.com/profile/RentheVinyl
 Archaeologist
ATTACH;FMTTYPE="image/jpeg":http://storage.ning.com/topology/rest/1.0/
 file/get/2248003659?profile=original
ATTENDEE;ROLE=REQ-PARTICIPANT;PARTSTAT=ACCEPTED;RSVP=TRUE;CN="Editor's
  Pick":https://trueskool.com/profile/RentheVinylArchaeologist
END:VEVENT
END:VCALENDAR
