BEGIN:VCALENDAR
PRODID:NingEventWidget-v1
VERSION:2.0
METHOD:PUBLISH
BEGIN:VTIMEZONE
TZID:America/Los_Angeles
X-LIC-LOCATION:America/Los_Angeles
BEGIN:DAYLIGHT
TZOFFSETFROM:-0800
TZOFFSETTO:-0700
TZNAME:PDT
DTSTART:19700308T020000
RRULE:FREQ=YEARLY;BYMONTH=3;BYDAY=2SU
END:DAYLIGHT
BEGIN:STANDARD
TZOFFSETFROM:-0700
TZOFFSETTO:-0800
TZNAME:PST
DTSTART:19701101T020000
RRULE:FREQ=YEARLY;BYMONTH=11;BYDAY=1SU
END:STANDARD
END:VTIMEZONE
BEGIN:VEVENT
UID:1464587:Event:33439
DTSTAMP:20260423T113734Z
SUMMARY:Debut Screening for Imagine Peace
DESCRIPTION:Capturing the voices of a community ready to counteract a 
 culture of violence with actions of peace.\n\nThe Imagine Peace Docume
 ntary Series celebrates community members who's bodies of work and sto
 ries of personal growth can inspire our youth to take an inventory of 
 where they are and where they would like to go. A mix of studio interv
 iews and live footage shot in the neighborhoods of Oakland,each episod
 e profiles outspoken local activists, artists and non-profit organizat
 ions.\n\nEpisode One profiles the work of Oakland Native and celebrate
 d performance artist Ise Lyfe. As the owner and founder of Lyfe Produc
 tives, Ise Lyfe often spends his days in front of a classroom and his 
 nights on a stage.\nAs a hip hop artist, poet and educator Lyfe has ma
 de it a goal to focus on creating a popular culture of consciousness b
 y finding ways to make both standard and alternative education provoca
 tive. Young, African American and from the inner city, Ise Lyfe's path
  in life embodies the belief \" that where you are from does not have 
 to dictate who you become.\" Viewers of the Imagine Peace Series are i
 nvited to witness this young educator engage his students with stimula
 ting subject matter such as \"the neutralization of the black man\".\n
 \nThe Imagine Peace Documentary Series is apart of a multi media initi
 ative titled \"The Imagine Peace Project,\" which was conceived by Oak
 land natives and Producers Jasmene Miranda and Shomari Smith in partne
 rship with the City of Oakland's Government channel KTOP.\n\nEPISODE O
 NE ISE LYFE: WORDS, THOUGHTS AND ACTIONS\n\nEPISODE TWO DAN MORA: BANG
  FOR CHANGE\n\nEPISODE THREE THE NON PROFITS\n\n\nCREDITS: Producers: 
 Jasmene Miranda, Shomari Smith;\nDirected by Jasmene Miranda;\nPost Pr
 oduction: Shomari Smith;\nExecutive Producer: Ashley James for KTOP TV
  Channel 10 the City of Oakland.\n\nFor more information visit https:/
 /trueskool.com/events/debut-screening-for-imagine
DTSTART;TZID=America/Los_Angeles:20090625T190000
DTEND;TZID=America/Los_Angeles:20090625T203000
CATEGORIES:screening, hip, hop, spoken, word, live, tv
LOCATION:KTOP Studios Oakland,Ca
WEBSITE:http://ktopstudios.com
URL:http://ktopstudios.com
CONTACT:510 238 3503
ORGANIZER;CN=JM:https://trueskool.com/profile/JM
ATTACH;FMTTYPE="image/jpeg":http://storage.ning.com/topology/rest/1.0/
 file/get/2187315494?profile=original
ATTENDEE;ROLE=REQ-PARTICIPANT;PARTSTAT=ACCEPTED;RSVP=TRUE;CN=JM:https:
 //trueskool.com/profile/JM
END:VEVENT
END:VCALENDAR
