BEGIN:VCALENDAR
PRODID:NingEventWidget-v1
VERSION:2.0
METHOD:PUBLISH
BEGIN:VTIMEZONE
TZID:America/Los_Angeles
X-LIC-LOCATION:America/Los_Angeles
BEGIN:DAYLIGHT
TZOFFSETFROM:-0800
TZOFFSETTO:-0700
TZNAME:PDT
DTSTART:19700308T020000
RRULE:FREQ=YEARLY;BYMONTH=3;BYDAY=2SU
END:DAYLIGHT
BEGIN:STANDARD
TZOFFSETFROM:-0700
TZOFFSETTO:-0800
TZNAME:PST
DTSTART:19701101T020000
RRULE:FREQ=YEARLY;BYMONTH=11;BYDAY=1SU
END:STANDARD
END:VTIMEZONE
BEGIN:VEVENT
UID:1464587:Event:67889
DTSTAMP:20260420T113441Z
SUMMARY:DEATH BY DISCO - a pink mammoth Halloween
DESCRIPTION:Come on out all you pink furry freaks!\n\nOn Friday Octobe
 r 29th, kick off the San Francisco Halloween festivities with Pink Mam
 moth as we present \"Death by Disco\". PM resident DJs Gravity and JDu
 b Ya will be spinning the room into a freaky Friday frenzy, so be prep
 ared to dance your legs off.\n\nCover is $5 before 11:30pm\n\n2 for 1 
 drinks from 9pm-11pm!\n\nFor more information visit https://trueskool.
 com/events/death-by-disco-a-pink-mammoth
DTSTART;TZID=America/Los_Angeles:20101029T210000
DTEND;TZID=America/Los_Angeles:20101030T020000
CATEGORIES:san, francisco, ca
LOCATION:Shine, San Francisco
WEBSITE:
URL:
CONTACT:
ORGANIZER;CN="Carey Kopp":https://trueskool.com/profile/k85
ATTACH;FMTTYPE="image/jpeg":http://storage.ning.com/topology/rest/1.0/
 file/get/2247883663?profile=original
ATTENDEE;ROLE=REQ-PARTICIPANT;PARTSTAT=ACCEPTED;RSVP=TRUE;CN="Carey Ko
 pp":https://trueskool.com/profile/k85
END:VEVENT
END:VCALENDAR
