BEGIN:VCALENDAR
PRODID:NingEventWidget-v1
VERSION:2.0
METHOD:PUBLISH
BEGIN:VTIMEZONE
TZID:America/Los_Angeles
X-LIC-LOCATION:America/Los_Angeles
BEGIN:DAYLIGHT
TZOFFSETFROM:-0800
TZOFFSETTO:-0700
TZNAME:PDT
DTSTART:19700308T020000
RRULE:FREQ=YEARLY;BYMONTH=3;BYDAY=2SU
END:DAYLIGHT
BEGIN:STANDARD
TZOFFSETFROM:-0700
TZOFFSETTO:-0800
TZNAME:PST
DTSTART:19701101T020000
RRULE:FREQ=YEARLY;BYMONTH=11;BYDAY=1SU
END:STANDARD
END:VTIMEZONE
BEGIN:VEVENT
UID:1464587:Event:35539
DTSTAMP:20260421T002914Z
SUMMARY:Dearly Beloved
DESCRIPTION:In The Dark Room,\nDearly Beloved\nCelebrate the union bet
 ween\nRebecca Watkins\n&\nJason Chavez\n\nMusical Bliss By:\nSolar\nHe
 ctor Moralez\nMatthew Robinson\n&\nMichael Parsons\nw/ Belinda Blair o
 n vocals\n\n\nPrice $10\nTime 9pm-2am\nMusic House\n\nFor more informa
 tion visit https://trueskool.com/events/dearly-beloved
DTSTART;TZID=America/Los_Angeles:20090801T210000
DTEND;TZID=America/Los_Angeles:20090802T030000
CATEGORIES:house
LOCATION:Club Six Dark Room, San Francisco, CA
WEBSITE:http://www.clubsix1.com
URL:http://www.clubsix1.com
CONTACT:415-531-6593
ORGANIZER:Angel
ATTACH;FMTTYPE="image/jpeg":http://storage.ning.com/topology/rest/1.0/
 file/get/2247857842?profile=original
ATTENDEE;ROLE=REQ-PARTICIPANT;PARTSTAT=ACCEPTED;RSVP=TRUE;CN=Cecily:ht
 tps://trueskool.com/profile/Cecily
END:VEVENT
END:VCALENDAR
