BEGIN:VCALENDAR
PRODID:NingEventWidget-v1
VERSION:2.0
METHOD:PUBLISH
BEGIN:VTIMEZONE
TZID:America/Los_Angeles
X-LIC-LOCATION:America/Los_Angeles
BEGIN:DAYLIGHT
TZOFFSETFROM:-0800
TZOFFSETTO:-0700
TZNAME:PDT
DTSTART:19700308T020000
RRULE:FREQ=YEARLY;BYMONTH=3;BYDAY=2SU
END:DAYLIGHT
BEGIN:STANDARD
TZOFFSETFROM:-0700
TZOFFSETTO:-0800
TZNAME:PST
DTSTART:19701101T020000
RRULE:FREQ=YEARLY;BYMONTH=11;BYDAY=1SU
END:STANDARD
END:VTIMEZONE
BEGIN:VEVENT
UID:1464587:Event:672288
DTSTAMP:20260421T102403Z
SUMMARY:DEAD PREZ
DESCRIPTION:ENTER TO WIN A PAIR OF TICKETS. WINNER WILL BE DRAWN RANDO
 MLY AND ANNOUNCED 2 DAYS PRIOR TO EVENT.\r\n\r\nThursday, February 08,
  2018\r\nDEAD PREZ   ¡MAYDAY!\r\n\r\nThe Independent, San Francisco, 
 CA Doors: 8:30pm | Show: 9:00pm\r\nThis event is 21 and over.\r\n$25.0
 0 – General Admission (Advance) $30.00 – General Admission (Door)\
 r\n>> BUY TICKETS\r\n\n\nFor more information visit https://trueskool.
 com/events/dead-prez
DTSTART;TZID=America/Los_Angeles:20180208T210000
DTEND;TZID=America/Los_Angeles:20180208T230000
CATEGORIES:"bay area", oakland, "san francisco", "san jose", berkeley
LOCATION:The Independent, San Francisco
WEBSITE:https://www.ticketfly.com/purchase/event/1608735?camefrom=CFC_
 ANOTHERPLANET_web&amp;amp;brand=anotherplanet&amp;amp;q=0e4add1f-453f-
 4b38-a010-e64ec4076128&amp;amp;p=8bf9a759-9195-4d0a-b9a8-019356946346&
 amp;amp;ts=1515007344&amp;amp;c=ticketfly&amp;amp;e=0010c&amp;amp;rt=S
 afetynet&amp;amp;h=e520b98b882a214a3cba14bc47a87447
URL:https://www.ticketfly.com/purchase/event/1608735?camefrom=CFC_ANOT
 HERPLANET_web&amp;amp;brand=anotherplanet&amp;amp;q=0e4add1f-453f-4b38
 -a010-e64ec4076128&amp;amp;p=8bf9a759-9195-4d0a-b9a8-019356946346&amp;
 amp;ts=1515007344&amp;amp;c=ticketfly&amp;amp;e=0010c&amp;amp;rt=Safet
 ynet&amp;amp;h=e520b98b882a214a3cba14bc47a87447
CONTACT:
ORGANIZER;CN="Editor's Pick":https://trueskool.com/profile/RentheVinyl
 Archaeologist
ATTACH;FMTTYPE="image/jpeg":http://storage.ning.com/topology/rest/1.0/
 file/get/2248003307?profile=original
ATTENDEE;ROLE=REQ-PARTICIPANT;PARTSTAT=ACCEPTED;RSVP=TRUE;CN="Elisa Bj
 eldanes":https://trueskool.com/profile/ElisaBjeldanes
ATTENDEE;ROLE=REQ-PARTICIPANT;PARTSTAT=ACCEPTED;RSVP=TRUE;CN="Editor's
  Pick":https://trueskool.com/profile/RentheVinylArchaeologist
END:VEVENT
END:VCALENDAR
