BEGIN:VCALENDAR
PRODID:NingEventWidget-v1
VERSION:2.0
METHOD:PUBLISH
BEGIN:VTIMEZONE
TZID:America/Los_Angeles
X-LIC-LOCATION:America/Los_Angeles
BEGIN:DAYLIGHT
TZOFFSETFROM:-0800
TZOFFSETTO:-0700
TZNAME:PDT
DTSTART:19700308T020000
RRULE:FREQ=YEARLY;BYMONTH=3;BYDAY=2SU
END:DAYLIGHT
BEGIN:STANDARD
TZOFFSETFROM:-0700
TZOFFSETTO:-0800
TZNAME:PST
DTSTART:19701101T020000
RRULE:FREQ=YEARLY;BYMONTH=11;BYDAY=1SU
END:STANDARD
END:VTIMEZONE
BEGIN:VEVENT
UID:1464587:Event:390039
DTSTAMP:20260421T022452Z
SUMMARY:De La Soul (NYC)
DESCRIPTION:\n\nDe La Soul - Celebrating 25 Years\n\n\nIrving Plaza Ne
 w York, NY\n\nWed, 07/16/14 07:30 PM\n\nFind Tickets »on Live Nation
 \n\n\n\n\n\n\n\n\nFor more information visit https://trueskool.com/eve
 nts/de-la-soul-nyc
DTSTART;TZID=America/Los_Angeles:20140716T193000
DTEND;TZID=America/Los_Angeles:20140716T230000
CATEGORIES:nyc
LOCATION:Irving Plaza, New York, NY
WEBSITE:http://www.ticketmaster.com/partner_redirect?v=6ch0owHd6Q5I4Z1
 XeVpRmdXPY-n_DJ2BfotiYLsMiGht9AftGSMEnhW8Bij1PmdQzz2_8G1rOfHI4CxKq74CR
 mq0J24Du25ohbIp8jVKjHNnFLaY5AyhYLHYE5qIdKork7mUzA&eventid=00004C98F8B0
 D6CB&artistid=768359&artistname=De%20La%20Soul%20-%20Celebrating%2025%
 20Years&cid=aff_BUYAT_85386&CAMEFROM=CFC_BUYAT_85386&crosssite=TM_US:7
 68359:47&tm_link=browse_msg-1_00004C98F8B0D6CB
URL:http://www.ticketmaster.com/partner_redirect?v=6ch0owHd6Q5I4Z1XeVp
 RmdXPY-n_DJ2BfotiYLsMiGht9AftGSMEnhW8Bij1PmdQzz2_8G1rOfHI4CxKq74CRmq0J
 24Du25ohbIp8jVKjHNnFLaY5AyhYLHYE5qIdKork7mUzA&eventid=00004C98F8B0D6CB
 &artistid=768359&artistname=De%20La%20Soul%20-%20Celebrating%2025%20Ye
 ars&cid=aff_BUYAT_85386&CAMEFROM=CFC_BUYAT_85386&crosssite=TM_US:76835
 9:47&tm_link=browse_msg-1_00004C98F8B0D6CB
CONTACT:
ORGANIZER:Editor's Pick
ATTACH;FMTTYPE="image/jpeg":http://storage.ning.com/topology/rest/1.0/
 file/get/2247963856?profile=original
ATTENDEE;ROLE=REQ-PARTICIPANT;PARTSTAT=ACCEPTED;RSVP=TRUE;CN="Ren the 
 Vinyl Archaeologist":https://trueskool.com/profile/xh51jvilojur
END:VEVENT
END:VCALENDAR
