BEGIN:VCALENDAR
PRODID:NingEventWidget-v1
VERSION:2.0
METHOD:PUBLISH
BEGIN:VTIMEZONE
TZID:America/Los_Angeles
X-LIC-LOCATION:America/Los_Angeles
BEGIN:DAYLIGHT
TZOFFSETFROM:-0800
TZOFFSETTO:-0700
TZNAME:PDT
DTSTART:19700308T020000
RRULE:FREQ=YEARLY;BYMONTH=3;BYDAY=2SU
END:DAYLIGHT
BEGIN:STANDARD
TZOFFSETFROM:-0700
TZOFFSETTO:-0800
TZNAME:PST
DTSTART:19701101T020000
RRULE:FREQ=YEARLY;BYMONTH=11;BYDAY=1SU
END:STANDARD
END:VTIMEZONE
BEGIN:VEVENT
UID:1464587:Event:625185
DTSTAMP:20260422T090912Z
SUMMARY:Dazz Band (WIN TICKETS)
DESCRIPTION:ENTER TO WIN A PAIR OF TICKETS. WINNER WILL BE DRAWN RANDO
 MLY AND ANNOUNCED 2 DAYS PRIOR TO EVENT.  \n\nDAZZ BAND\nSat, June 13
 , 2015\nDoors: 7:00 PM / Show: 7:30 PM\nDoors: 9:15 PM / Show: 9:3
 0 PM\nYoshi's Oakland\nOakland, CA\n$29.00 - $59.00\n \n\n\nFor more i
 nformation visit https://trueskool.com/events/dazz-band
DTSTART;TZID=America/Los_Angeles:20150613T193000
DTEND;TZID=America/Los_Angeles:20150613T233000
CATEGORIES:"san francisco", oakland, berkley, "san jose", "bay area"
LOCATION:Yoshi's, Oakland
WEBSITE:https://www.ticketfly.com/purchase/event/808065?__utma=1.12272
 77617.1427488077.1427488583.1427579757.3&__utmb=1.7.10.1427579757&__ut
 mc=1&__utmx=-&__utmz=1.1427488583.2.2.utmcsr=google|utmccn=(organic)|u
 tmcmd=organic|utmctr=(not%20provided)&__utmv=-&__utmk=195950124
URL:https://www.ticketfly.com/purchase/event/808065?__utma=1.122727761
 7.1427488077.1427488583.1427579757.3&__utmb=1.7.10.1427579757&__utmc=1
 &__utmx=-&__utmz=1.1427488583.2.2.utmcsr=google|utmccn=(organic)|utmcm
 d=organic|utmctr=(not%20provided)&__utmv=-&__utmk=195950124
CONTACT:
ORGANIZER:Yoshi's
ATTACH;FMTTYPE="image/jpeg":http://storage.ning.com/topology/rest/1.0/
 file/get/2247975122?profile=original
ATTENDEE;ROLE=REQ-PARTICIPANT;PARTSTAT=ACCEPTED;RSVP=TRUE;CN="Editor's
  Pick":https://trueskool.com/profile/RentheVinylArchaeologist
END:VEVENT
END:VCALENDAR
