BEGIN:VCALENDAR
PRODID:NingEventWidget-v1
VERSION:2.0
METHOD:PUBLISH
BEGIN:VTIMEZONE
TZID:America/Los_Angeles
X-LIC-LOCATION:America/Los_Angeles
BEGIN:DAYLIGHT
TZOFFSETFROM:-0800
TZOFFSETTO:-0700
TZNAME:PDT
DTSTART:19700308T020000
RRULE:FREQ=YEARLY;BYMONTH=3;BYDAY=2SU
END:DAYLIGHT
BEGIN:STANDARD
TZOFFSETFROM:-0700
TZOFFSETTO:-0800
TZNAME:PST
DTSTART:19701101T020000
RRULE:FREQ=YEARLY;BYMONTH=11;BYDAY=1SU
END:STANDARD
END:VTIMEZONE
BEGIN:VEVENT
UID:1464587:Event:113419
DTSTAMP:20260421T032817Z
SUMMARY:david petrelli
DESCRIPTION:M1 of DEAD PREZ Â  AND DJ CHILD Â PROJECT GROUNDATION.. ..
 Â \n\nTHE REVOLUTIONARY CULTURE TOUR. .\n\nLIVE PAINTING :\nBLACK DIAM
 OND SHININGÂ \n\nALSO PERFORMING ..Â \n\nSELLASSIE, MS BE , RAGTOP. .Â
  \n\nFor more information visit https://trueskool.com/events/david-pet
 relli
DTSTART;TZID=America/Los_Angeles:20120303T213000
DTEND;TZID=America/Los_Angeles:20120304T020000
CATEGORIES:sf, ca
LOCATION:CELL SPACE, SAN FRANCISCO
WEBSITE:
URL:
CONTACT:774 240 1741
ORGANIZER;CN="david petrelli":https://trueskool.com/profile/davidpetre
 lli
ATTACH;FMTTYPE="image/jpeg":http://storage.ning.com/topology/rest/1.0/
 file/get/2247906407?profile=original
ATTENDEE;ROLE=REQ-PARTICIPANT;PARTSTAT=ACCEPTED;RSVP=TRUE;CN="david pe
 trelli":https://trueskool.com/profile/davidpetrelli
END:VEVENT
END:VCALENDAR
