BEGIN:VCALENDAR
PRODID:NingEventWidget-v1
VERSION:2.0
METHOD:PUBLISH
BEGIN:VTIMEZONE
TZID:America/Los_Angeles
X-LIC-LOCATION:America/Los_Angeles
BEGIN:DAYLIGHT
TZOFFSETFROM:-0800
TZOFFSETTO:-0700
TZNAME:PDT
DTSTART:19700308T020000
RRULE:FREQ=YEARLY;BYMONTH=3;BYDAY=2SU
END:DAYLIGHT
BEGIN:STANDARD
TZOFFSETFROM:-0700
TZOFFSETTO:-0800
TZNAME:PST
DTSTART:19701101T020000
RRULE:FREQ=YEARLY;BYMONTH=11;BYDAY=1SU
END:STANDARD
END:VTIMEZONE
BEGIN:VEVENT
UID:1464587:Event:377046
DTSTAMP:20260421T072443Z
SUMMARY:Darling Switches
DESCRIPTION:Darling Nikki and Switch SF present:Darling Switches!Qu
 eer Pride Dance PartyFriday, June 27th, 8pm-2am$7 at the door @Slate 
 bar, 2925 16th Street, San FranciscoFEATURING:DJs: Finn, Durt, Andre,
  Jenna RiotGoGo dancing by: Switch dancers and Claire !Photography by:
  CodyPhotobooth benefiting St. James InfirmaryDouble the queer action,
  double the fun! Two San Francisco parties team up to present a debauc
 herous evening with some of the hottest Bay Area DJ’s, sexy go-go’
 s, and a packed dancefloor featuring all your queer friends and some n
 ew ones! DJ's Finn Lewis, DJ DURT, Jenna Riot, and DeeJay Andre 
 playing all the best party jams: 80’s, 90’s, hiphop, Top 40, trap 
 & twerk! Photobooth donations go to St. James Infirmary- a peer-led c
 linic for sex workers.St. James Infirmary is the first occupational sa
 fety and health clinic for sex workers in the United States - providin
 g free, confidential, nonjudgmental medical and social services for cu
 rrent or former sex workers of all genders and sexual orientations and
  their partners.www.stjamesinfirmary.org\n\nFor more information visit
  https://trueskool.com/events/darling-switches
DTSTART;TZID=America/Los_Angeles:20140627T200000
DTEND;TZID=America/Los_Angeles:20140628T020000
CATEGORIES:san, francisco, bay, area
LOCATION:Slate, San Francisco, CA
WEBSITE:https://www.facebook.com/events/797347843617022/
URL:https://www.facebook.com/events/797347843617022/
CONTACT:
ORGANIZER;CN="DeeJay Andre":https://trueskool.com/profile/DeeJayAndre
ATTACH;FMTTYPE="image/jpeg":http://storage.ning.com/topology/rest/1.0/
 file/get/2247963228?profile=original
ATTENDEE;ROLE=REQ-PARTICIPANT;PARTSTAT=ACCEPTED;RSVP=TRUE;CN="DeeJay A
 ndre":https://trueskool.com/profile/DeeJayAndre
END:VEVENT
END:VCALENDAR
