BEGIN:VCALENDAR
PRODID:NingEventWidget-v1
VERSION:2.0
METHOD:PUBLISH
BEGIN:VTIMEZONE
TZID:America/Los_Angeles
X-LIC-LOCATION:America/Los_Angeles
BEGIN:DAYLIGHT
TZOFFSETFROM:-0800
TZOFFSETTO:-0700
TZNAME:PDT
DTSTART:19700308T020000
RRULE:FREQ=YEARLY;BYMONTH=3;BYDAY=2SU
END:DAYLIGHT
BEGIN:STANDARD
TZOFFSETFROM:-0700
TZOFFSETTO:-0800
TZNAME:PST
DTSTART:19701101T020000
RRULE:FREQ=YEARLY;BYMONTH=11;BYDAY=1SU
END:STANDARD
END:VTIMEZONE
BEGIN:VEVENT
UID:1464587:Event:36330
DTSTAMP:20260420T213112Z
SUMMARY:Dancehall Party with WASP
DESCRIPTION:WASP Performing Live & Direct from Jamaica for his 1st USA
  performance.... Featuring Broken Silence Sound, Black Love Sound plus
  special guests....... SATURDAY AUGUST 22 2009! 19 BROADWAY NITE CLUB 
 FAIRFAX, CA\n\n\nFor more information visit https://trueskool.com/even
 ts/dancehall-party-with-wasp
DTSTART;TZID=America/Los_Angeles:20090822T220000
DTEND;TZID=America/Los_Angeles:20090823T020000
CATEGORIES:dancehall, reggae
LOCATION:19 Broadway Nite Club, Fairfax, CA 94930
WEBSITE:http://www.19broadway.com/
URL:http://www.19broadway.com/
CONTACT:415-532-9767
ORGANIZER;CN=Royalniss:https://trueskool.com/profile/Royalniss
ATTACH;FMTTYPE="image/jpeg":http://storage.ning.com/topology/rest/1.0/
 file/get/2247859235?profile=original
ATTENDEE;ROLE=REQ-PARTICIPANT;PARTSTAT=ACCEPTED;RSVP=TRUE;CN=Royalniss
 :https://trueskool.com/profile/Royalniss
END:VEVENT
END:VCALENDAR
