BEGIN:VCALENDAR
PRODID:NingEventWidget-v1
VERSION:2.0
METHOD:PUBLISH
BEGIN:VTIMEZONE
TZID:America/Los_Angeles
X-LIC-LOCATION:America/Los_Angeles
BEGIN:DAYLIGHT
TZOFFSETFROM:-0800
TZOFFSETTO:-0700
TZNAME:PDT
DTSTART:19700308T020000
RRULE:FREQ=YEARLY;BYMONTH=3;BYDAY=2SU
END:DAYLIGHT
BEGIN:STANDARD
TZOFFSETFROM:-0700
TZOFFSETTO:-0800
TZNAME:PST
DTSTART:19701101T020000
RRULE:FREQ=YEARLY;BYMONTH=11;BYDAY=1SU
END:STANDARD
END:VTIMEZONE
BEGIN:VEVENT
UID:1464587:Event:295477
DTSTAMP:20260421T011201Z
SUMMARY:Dana Salzman Record Release Party w/ special guest Rappin' 4-T
 ay
DESCRIPTION:\nSUNDAY, FEB 9 DANA SALZMAN & her funky fresh bandCD Rel
 ease Party for the new album \"Deep Down\"\n\nwith special guest: Rapp
 in 4-Tay\n\n@ The New Parish, 579 18th St, Oakland, CA, 94612 7:00 pm 
 (event ends at 10:00 pm) THIS EVENT IS 18 AND OVER Under 21 must buy $
 5 drink ticket at the door. $7 adv - $10 door  >> BUY TICKETS\n\nFor m
 ore information visit https://trueskool.com/events/dana-salzman-record
 -release-party-w-special-guests-rappin-4-tay-k
DTSTART;TZID=America/Los_Angeles:20140209T190000
DTEND;TZID=America/Los_Angeles:20140209T220000
CATEGORIES:"bay area", oakland
LOCATION:The New Parish, Oakland
WEBSITE:http://www.ticketfly.com/purchase/event/460885
URL:http://www.ticketfly.com/purchase/event/460885
CONTACT:
ORGANIZER:New Parish
ATTACH;FMTTYPE="image/jpeg":http://storage.ning.com/topology/rest/1.0/
 file/get/2247955889?profile=original
ATTENDEE;ROLE=REQ-PARTICIPANT;PARTSTAT=ACCEPTED;RSVP=TRUE;CN="Staff Pi
 ck":https://trueskool.com/profile/Ren
ATTENDEE;ROLE=REQ-PARTICIPANT;PARTSTAT=ACCEPTED;RSVP=TRUE;CN="Iris E."
 :https://trueskool.com/profile/IrisE
END:VEVENT
END:VCALENDAR
