BEGIN:VCALENDAR
PRODID:NingEventWidget-v1
VERSION:2.0
METHOD:PUBLISH
BEGIN:VTIMEZONE
TZID:America/Los_Angeles
X-LIC-LOCATION:America/Los_Angeles
BEGIN:DAYLIGHT
TZOFFSETFROM:-0800
TZOFFSETTO:-0700
TZNAME:PDT
DTSTART:19700308T020000
RRULE:FREQ=YEARLY;BYMONTH=3;BYDAY=2SU
END:DAYLIGHT
BEGIN:STANDARD
TZOFFSETFROM:-0700
TZOFFSETTO:-0800
TZNAME:PST
DTSTART:19701101T020000
RRULE:FREQ=YEARLY;BYMONTH=11;BYDAY=1SU
END:STANDARD
END:VTIMEZONE
BEGIN:VEVENT
UID:1464587:Event:55597
DTSTAMP:20260421T020215Z
SUMMARY:Dan the Automator presents Chief Xcel/Blackalicious (Win Ticke
 ts)
DESCRIPTION:CLICK HERE TO WIN A PAIR OF TICKETS:\nhttp://www.trueskool
 .com/group/wintickets\n\n\nSATURDAY, MAY 8\nDan The Automator presents
 :\nAUDIO ALCHEMY\nAudio Alchemy is a new bi-monthly series featuring v
 anguard DJs in the mix and performing with live musicians. It will bol
 dly explore the role of the DJ in the creation of music today.\n\nFeat
 uring\nChief Xcel special performance by Blackalicious\n\nwith residen
 t DJ Shortkut (Invisibl Skratch Piklz, Triple Threat) and the Jazz Maf
 ia All-Stars\n\nYoshi's San Francisco, 1330 Fillmore Street, San Franc
 isco, CA 94115 / Phone: 415.655.5600\n10:30pm. $20. Ages 21+.\nBuy Tic
 kets\nFor bottle service please contact: Shamilah Ivory\n(415) 655-560
 7 shamilah@yoshis.com\n\n\nFor more information visit https://truesko
 ol.com/events/dan-the-automator-presents-3
DTSTART;TZID=America/Los_Angeles:20100508T223000
DTEND;TZID=America/Los_Angeles:20100509T020000
CATEGORIES:hip, hop
LOCATION:Yoshi's, San Francisco, CA
WEBSITE:http://sfyoshis2.inticketing.com/evlist.php?events=search&sear
 chstr=alchemy
URL:http://sfyoshis2.inticketing.com/evlist.php?events=search&searchst
 r=alchemy
CONTACT:
ORGANIZER:Dan the Automator
ATTACH;FMTTYPE="image/jpeg":http://storage.ning.com/topology/rest/1.0/
 file/get/2106896609?profile=original
ATTENDEE;ROLE=REQ-PARTICIPANT;PARTSTAT=ACCEPTED;RSVP=TRUE;CN="Ren the 
 Vinyl Archaeologist":https://trueskool.com/profile/xh51jvilojur
END:VEVENT
END:VCALENDAR
