BEGIN:VCALENDAR
PRODID:NingEventWidget-v1
VERSION:2.0
METHOD:PUBLISH
BEGIN:VTIMEZONE
TZID:America/Los_Angeles
X-LIC-LOCATION:America/Los_Angeles
BEGIN:DAYLIGHT
TZOFFSETFROM:-0800
TZOFFSETTO:-0700
TZNAME:PDT
DTSTART:19700308T020000
RRULE:FREQ=YEARLY;BYMONTH=3;BYDAY=2SU
END:DAYLIGHT
BEGIN:STANDARD
TZOFFSETFROM:-0700
TZOFFSETTO:-0800
TZNAME:PST
DTSTART:19701101T020000
RRULE:FREQ=YEARLY;BYMONTH=11;BYDAY=1SU
END:STANDARD
END:VTIMEZONE
BEGIN:VEVENT
UID:1464587:Event:53441
DTSTAMP:20260421T050728Z
SUMMARY:Dan The Automator presents: AUDIO ALCHEMY featuring JUST BLAZE
DESCRIPTION:CLICK HERE TO WIN A PAIR OF TICKTETS:\nhttp://www.trueskoo
 l.com/group/wintickets\n\n\nSaturday April 24th\nDan The Automator pre
 sents: AUDIO ALCHEMY\nfeaturing Just Blaze\n\nYoshi's San Francisco\n1
 330 Fillmore, San Francisco, CA\n21+\ndoors at 10:30pm\ntickets $20\nB
 uy Tickets:\nhttp://sfyoshis2.inticketing.com/events/81945/AUDIO-ALCHE
 MY-ft-JUST-BLAZE--10-30\n\nFor more information visit https://trueskoo
 l.com/events/dan-the-automator-presents-2
DTSTART;TZID=America/Los_Angeles:20100424T223000
DTEND;TZID=America/Los_Angeles:20100425T020000
CATEGORIES:hip, hop, "r&b"
LOCATION:Yoshi's San Francisco, SF, CA
WEBSITE:http://sfyoshis2.inticketing.com/events/81945/AUDIO-ALCHEMY-ft
 -JUST-BLAZE--10-30
URL:http://sfyoshis2.inticketing.com/events/81945/AUDIO-ALCHEMY-ft-JUS
 T-BLAZE--10-30
CONTACT:
ORGANIZER;CN="Editor's Pick":https://trueskool.com/profile/RentheVinyl
 Archaeologist
ATTACH;FMTTYPE="image/jpeg":http://storage.ning.com/topology/rest/1.0/
 file/get/2247866364?profile=original
ATTENDEE;ROLE=REQ-PARTICIPANT;PARTSTAT=ACCEPTED;RSVP=TRUE;CN="Editor's
  Pick":https://trueskool.com/profile/RentheVinylArchaeologist
END:VEVENT
END:VCALENDAR
