BEGIN:VCALENDAR
PRODID:NingEventWidget-v1
VERSION:2.0
METHOD:PUBLISH
BEGIN:VTIMEZONE
TZID:America/Los_Angeles
X-LIC-LOCATION:America/Los_Angeles
BEGIN:DAYLIGHT
TZOFFSETFROM:-0800
TZOFFSETTO:-0700
TZNAME:PDT
DTSTART:19700308T020000
RRULE:FREQ=YEARLY;BYMONTH=3;BYDAY=2SU
END:DAYLIGHT
BEGIN:STANDARD
TZOFFSETFROM:-0700
TZOFFSETTO:-0800
TZNAME:PST
DTSTART:19701101T020000
RRULE:FREQ=YEARLY;BYMONTH=11;BYDAY=1SU
END:STANDARD
END:VTIMEZONE
BEGIN:VEVENT
UID:1464587:Event:52509
DTSTAMP:20260421T050727Z
SUMMARY:Dan the Automator presents Mixmaster Mike
DESCRIPTION:CLICK HERE TO WIN A PAIR OF TICKETS\n\n\nSATURDAY, APRIL 1
 0\nDan The Automator presents:\nAUDIO ALCHEMY\nAudio Alchemy is a new 
 bi-monthly series featuring vanguard DJs in the mix and performing wit
 h live musicians. It will boldly explore the role of the DJ in the cre
 ation of music today.\n\nfeaturing\nMIX MASTER MIKE and special guests
 !\n\nwith resident DJ Shortkut (Invisibl Skratch Piklz, Triple Threat)
  and the Jazz Mafia All-Stars\n\nPlease note: Audio Alchemy takes plac
 e in the Yoshi's San Francisco Restaurant, Lounge as well as the Jazz 
 Club.\n\n@ Yoshi's, 1330 Fillmore Street, San Francisco, CA\n10:30pm. 
 $20. Ages 21+.\nBuy Tickets\n\nFor more information visit https://true
 skool.com/events/dan-the-automator-presents-1
DTSTART;TZID=America/Los_Angeles:20100410T223000
DTEND;TZID=America/Los_Angeles:20100411T020000
CATEGORIES:hip, hop
LOCATION:Yoshi's, San Francisco, CA
WEBSITE:http://sfyoshis2.inticketing.com/evlist.php?events=search&sear
 chstr=alchem
URL:http://sfyoshis2.inticketing.com/evlist.php?events=search&searchst
 r=alchem
CONTACT:
ORGANIZER:Dan the Automator
ATTACH;FMTTYPE="image/jpeg":http://storage.ning.com/topology/rest/1.0/
 file/get/2247875156?profile=original
ATTENDEE;ROLE=REQ-PARTICIPANT;PARTSTAT=ACCEPTED;RSVP=TRUE;CN="Editor's
  Pick":https://trueskool.com/profile/RentheVinylArchaeologist
END:VEVENT
END:VCALENDAR
