BEGIN:VCALENDAR
PRODID:NingEventWidget-v1
VERSION:2.0
METHOD:PUBLISH
BEGIN:VTIMEZONE
TZID:America/Los_Angeles
X-LIC-LOCATION:America/Los_Angeles
BEGIN:DAYLIGHT
TZOFFSETFROM:-0800
TZOFFSETTO:-0700
TZNAME:PDT
DTSTART:19700308T020000
RRULE:FREQ=YEARLY;BYMONTH=3;BYDAY=2SU
END:DAYLIGHT
BEGIN:STANDARD
TZOFFSETFROM:-0700
TZOFFSETTO:-0800
TZNAME:PST
DTSTART:19701101T020000
RRULE:FREQ=YEARLY;BYMONTH=11;BYDAY=1SU
END:STANDARD
END:VTIMEZONE
BEGIN:VEVENT
UID:1464587:Event:69602
DTSTAMP:20260420T145442Z
SUMMARY:Da Return of HipHop/R&B  Live @ Pinkys 6985 Garden Hwy.
DESCRIPTION:**Its going down**\nNov. 26th 2010\nReel HipHop/R&B\nLive 
 @ Pinkys 6985 Garden Hwy\nNicolaus Ca. 95659\n\n**All Night Party**\n8
 pm-3am.\n\nHosted by DJ Dave Diggler\nGuest MC Kelly Kell\n\nMusic Lov
 ers Of: Troop, NE, Naughty By Nature, SWV, Kriss Kross,\nSlick Rick, K
 id N Play, Salt N Pepper, LL Cool J, Outkast, Biggie Smalls, Tupac, Di
 gital Undaground, LBC, MC Breed, Total,......Yall Not Ready!!!Da Retur
 n\n\nFor more information visit https://trueskool.com/events/da-return
 -of-hiphoprb-live
DTSTART;TZID=America/Los_Angeles:20101126T200000
DTEND;TZID=America/Los_Angeles:20101127T030000
CATEGORIES:sacramento, "ca.", 95825
LOCATION:sacramento Ca.
WEBSITE:
URL:
CONTACT:
ORGANIZER;CN="Frankee Nuklls 3":https://trueskool.com/profile/FrankeeN
 uklls3
ATTACH;FMTTYPE="image/jpeg":
ATTENDEE;ROLE=REQ-PARTICIPANT;PARTSTAT=ACCEPTED;RSVP=TRUE;CN="Frankee 
 Nuklls 3":https://trueskool.com/profile/FrankeeNuklls3
END:VEVENT
END:VCALENDAR
