BEGIN:VCALENDAR
PRODID:NingEventWidget-v1
VERSION:2.0
METHOD:PUBLISH
BEGIN:VTIMEZONE
TZID:America/Los_Angeles
X-LIC-LOCATION:America/Los_Angeles
BEGIN:DAYLIGHT
TZOFFSETFROM:-0800
TZOFFSETTO:-0700
TZNAME:PDT
DTSTART:19700308T020000
RRULE:FREQ=YEARLY;BYMONTH=3;BYDAY=2SU
END:DAYLIGHT
BEGIN:STANDARD
TZOFFSETFROM:-0700
TZOFFSETTO:-0800
TZNAME:PST
DTSTART:19701101T020000
RRULE:FREQ=YEARLY;BYMONTH=11;BYDAY=1SU
END:STANDARD
END:VTIMEZONE
BEGIN:VEVENT
UID:1464587:Event:628795
DTSTAMP:20260422T122202Z
SUMMARY:D'Angelo and The Vanguard
DESCRIPTION:\nVenue:\nFox Theater\n\nLocation:\nOakland, CA\n\nShow Da
 te:\nSunday, June 7\n\nShow Time:\n7:30PM\n\nOn Sale Date:\nThursday, 
 April 30\n\nTicket Price:\n$65.00 - General Admission Floor$85.00 - Re
 served Mezzanine$49.50 - Reserved Balcony*plus applicable service fees
 \nTickets are also available service charge free at The Fox Theater's 
 Box Office (located on the 19th street side of the theater) on show da
 tes and on Fridays from noon - 7:00pm.\nFor an additional $50.00, you 
 can opt in to upgrade your experience to include VIP access to the exc
 lusive Telegraph Room before, during and after the show!\nJoin us at T
 he Den at the Fox Theater before the show for Happy Hour from 6-7pm!\n
 \n\n\n\n\nFor more information visit https://trueskool.com/events/d-an
 gelo-and-the-vanguard
DTSTART;TZID=America/Los_Angeles:20150607T193000
DTEND;TZID=America/Los_Angeles:20150607T230000
CATEGORIES:"san francisco", oakland, berkley, "san jose", "bay area"
LOCATION:Fox Theater, Oakand, CA
WEBSITE:http://-SOLD OUT-
URL:http://-SOLD OUT-
CONTACT:
ORGANIZER;CN="Editor's Pick":https://trueskool.com/profile/RentheVinyl
 Archaeologist
ATTACH;FMTTYPE="image/jpeg":http://storage.ning.com/topology/rest/1.0/
 file/get/2247977221?profile=original
ATTENDEE;ROLE=REQ-PARTICIPANT;PARTSTAT=ACCEPTED;RSVP=TRUE;CN="Editor's
  Pick":https://trueskool.com/profile/RentheVinylArchaeologist
END:VEVENT
END:VCALENDAR
