BEGIN:VCALENDAR
PRODID:NingEventWidget-v1
VERSION:2.0
METHOD:PUBLISH
BEGIN:VTIMEZONE
TZID:America/Los_Angeles
X-LIC-LOCATION:America/Los_Angeles
BEGIN:DAYLIGHT
TZOFFSETFROM:-0800
TZOFFSETTO:-0700
TZNAME:PDT
DTSTART:19700308T020000
RRULE:FREQ=YEARLY;BYMONTH=3;BYDAY=2SU
END:DAYLIGHT
BEGIN:STANDARD
TZOFFSETFROM:-0700
TZOFFSETTO:-0800
TZNAME:PST
DTSTART:19701101T020000
RRULE:FREQ=YEARLY;BYMONTH=11;BYDAY=1SU
END:STANDARD
END:VTIMEZONE
BEGIN:VEVENT
UID:1464587:Event:28715
DTSTAMP:20260421T004012Z
SUMMARY:Cypress Hill
DESCRIPTION:Cypress Hill\n\nThe Fillmore\n1805 Geary Boulevard\nSan Fr
 ancisco, CA 94115\n(415) 346-6000\n\nFor more information visit https:
 //trueskool.com/events/cypress-hill
DTSTART;TZID=America/Los_Angeles:20090420T200000
DTEND;TZID=America/Los_Angeles:20090421T120000
CATEGORIES:hip, hop
LOCATION:The Fillmore
WEBSITE:http://tickets.livenation.com/cgi-bin/tickets.htm?fun=tdetailb
 &doc=detailb&key=712$1906&eid=404621&oid=733F2C413F5B3F237B3F547A3F7E2
 73F5C3F3F46&fun=tdetailb&id=EC2_NO_SESSION&doc=detailb&key=712$1906&af
 filiate=EC2&referer_info=404621
URL:http://tickets.livenation.com/cgi-bin/tickets.htm?fun=tdetailb&doc
 =detailb&key=712$1906&eid=404621&oid=733F2C413F5B3F237B3F547A3F7E273F5
 C3F3F46&fun=tdetailb&id=EC2_NO_SESSION&doc=detailb&key=712$1906&affili
 ate=EC2&referer_info=404621
CONTACT:
ORGANIZER:Live Nation
ATTACH;FMTTYPE="image/jpeg":http://storage.ning.com/topology/rest/1.0/
 file/get/2247854756?profile=original
ATTENDEE;ROLE=REQ-PARTICIPANT;PARTSTAT=ACCEPTED;RSVP=TRUE;CN="Ren the 
 Vinyl Archaeologist":https://trueskool.com/profile/xh51jvilojur
ATTENDEE;ROLE=REQ-PARTICIPANT;PARTSTAT=TENTATIVE;RSVP=TRUE;CN=Celestia
 ldrmz:https://trueskool.com/profile/Celestialdrmz
END:VEVENT
END:VCALENDAR
