BEGIN:VCALENDAR
PRODID:NingEventWidget-v1
VERSION:2.0
METHOD:PUBLISH
BEGIN:VTIMEZONE
TZID:America/Los_Angeles
X-LIC-LOCATION:America/Los_Angeles
BEGIN:DAYLIGHT
TZOFFSETFROM:-0800
TZOFFSETTO:-0700
TZNAME:PDT
DTSTART:19700308T020000
RRULE:FREQ=YEARLY;BYMONTH=3;BYDAY=2SU
END:DAYLIGHT
BEGIN:STANDARD
TZOFFSETFROM:-0700
TZOFFSETTO:-0800
TZNAME:PST
DTSTART:19701101T020000
RRULE:FREQ=YEARLY;BYMONTH=11;BYDAY=1SU
END:STANDARD
END:VTIMEZONE
BEGIN:VEVENT
UID:1464587:Event:50437
DTSTAMP:20260420T163243Z
SUMMARY:Cypress Hill (Win Tickets)
DESCRIPTION:CLICK HERE TO WIN A PAIR OF TICKETS\n\n\nTUESDAY, APRIL 20
 \nGolden Voice presents\nCypress Hill\n\n@ The Warfield, 982 Market St
 ., San Francisco\n\nExclusive Presale:\nThursday, March 11 - 10AM-10PM
 \nPassword: 420\nBuy Tickets\nPublic on Sale Friday, 4:20pm\n\nFor mor
 e information visit https://trueskool.com/events/cypress-hill-win-tick
 ets
DTSTART;TZID=America/Los_Angeles:20100420T200000
DTEND;TZID=America/Los_Angeles:20100420T230000
CATEGORIES:hip, hop
LOCATION:The Warfield, San Francisco, CA
WEBSITE:http://www.ticketmaster.com/event/1C004462DF1D587C?brand=golde
 nvoice
URL:http://www.ticketmaster.com/event/1C004462DF1D587C?brand=goldenvoi
 ce
CONTACT:
ORGANIZER:Golden Voice
ATTACH;FMTTYPE="image/jpeg":http://storage.ning.com/topology/rest/1.0/
 file/get/2247874851?profile=original
ATTENDEE;ROLE=REQ-PARTICIPANT;PARTSTAT=ACCEPTED;RSVP=TRUE;CN="Ren the 
 Vinyl Archaeologist":https://trueskool.com/profile/xh51jvilojur
ATTENDEE;ROLE=REQ-PARTICIPANT;PARTSTAT=TENTATIVE;RSVP=TRUE;CN="takumi 
 suzuki":https://trueskool.com/profile/takumisuzuki
END:VEVENT
END:VCALENDAR
