BEGIN:VCALENDAR
PRODID:NingEventWidget-v1
VERSION:2.0
METHOD:PUBLISH
BEGIN:VTIMEZONE
TZID:America/Los_Angeles
X-LIC-LOCATION:America/Los_Angeles
BEGIN:DAYLIGHT
TZOFFSETFROM:-0800
TZOFFSETTO:-0700
TZNAME:PDT
DTSTART:19700308T020000
RRULE:FREQ=YEARLY;BYMONTH=3;BYDAY=2SU
END:DAYLIGHT
BEGIN:STANDARD
TZOFFSETFROM:-0700
TZOFFSETTO:-0800
TZNAME:PST
DTSTART:19701101T020000
RRULE:FREQ=YEARLY;BYMONTH=11;BYDAY=1SU
END:STANDARD
END:VTIMEZONE
BEGIN:VEVENT
UID:1464587:Event:646948
DTSTAMP:20260421T080139Z
SUMMARY:CYMANDE
DESCRIPTION:CYMANDE / THE BUDOS BAND\nMotion Potion\nSunday, June 5, 2
 016 Doors: 7:00PM |Show: 8:00PM\n1300 Van Ness Avenue San Francisco, C
 A 94109 (415) 673-5716 THE REGENCY BALLROOM\n\n\n\n\nFor more informat
 ion visit https://trueskool.com/events/cymande1
DTSTART;TZID=America/Los_Angeles:20160605T190000
DTEND;TZID=America/Los_Angeles:20160605T230000
CATEGORIES:"san francisco", oakland, berkley, "san jose", "bay area"
LOCATION:The Regency Ballroom, San Francisco
WEBSITE:http://www.axs.com/events/308513/cymande-the-budos-band-ticket
 s?skin=goldenvoice
URL:http://www.axs.com/events/308513/cymande-the-budos-band-tickets?sk
 in=goldenvoice
CONTACT:
ORGANIZER;CN="Editor's Pick":https://trueskool.com/profile/RentheVinyl
 Archaeologist
ATTACH;FMTTYPE="image/jpeg":http://storage.ning.com/topology/rest/1.0/
 file/get/2247987005?profile=original
ATTENDEE;ROLE=REQ-PARTICIPANT;PARTSTAT=ACCEPTED;RSVP=TRUE;CN="Editor's
  Pick":https://trueskool.com/profile/RentheVinylArchaeologist
END:VEVENT
END:VCALENDAR
