BEGIN:VCALENDAR
PRODID:NingEventWidget-v1
VERSION:2.0
METHOD:PUBLISH
BEGIN:VTIMEZONE
TZID:America/Los_Angeles
X-LIC-LOCATION:America/Los_Angeles
BEGIN:DAYLIGHT
TZOFFSETFROM:-0800
TZOFFSETTO:-0700
TZNAME:PDT
DTSTART:19700308T020000
RRULE:FREQ=YEARLY;BYMONTH=3;BYDAY=2SU
END:DAYLIGHT
BEGIN:STANDARD
TZOFFSETFROM:-0700
TZOFFSETTO:-0800
TZNAME:PST
DTSTART:19701101T020000
RRULE:FREQ=YEARLY;BYMONTH=11;BYDAY=1SU
END:STANDARD
END:VTIMEZONE
BEGIN:VEVENT
UID:1464587:Event:833088
DTSTAMP:20260421T111826Z
SUMMARY:Cymande
DESCRIPTION:Cymande\r\nWednesday, February 26, 2025 8:00 pm | Doors: 7
 :00 pm\r\nAugust Hall 420 Mason Street, San Francisco, CA 94102\n\nFor
  more information visit https://trueskool.com/events/cymande
DTSTART;TZID=America/Los_Angeles:20250226T190000
DTEND;TZID=America/Los_Angeles:20250226T233000
CATEGORIES:"bay area", oakland, "san francisco", "san jose", berkeley
LOCATION:AUGUST HALL, SF
WEBSITE:https://www.ticketweb.com/event/cymande-august-hall-tickets/13
 667484?pl=august
URL:https://www.ticketweb.com/event/cymande-august-hall-tickets/136674
 84?pl=august
CONTACT:
ORGANIZER;CN="Editor's Pick":https://trueskool.com/profile/RentheVinyl
 Archaeologist
ATTACH;FMTTYPE="image/jpeg":https://storage.ning.com/topology/rest/1.0
 /file/get/13123665487?profile=original
ATTENDEE;ROLE=REQ-PARTICIPANT;PARTSTAT=ACCEPTED;RSVP=TRUE;CN="Editor's
  Pick":https://trueskool.com/profile/RentheVinylArchaeologist
END:VEVENT
END:VCALENDAR
