BEGIN:VCALENDAR
PRODID:NingEventWidget-v1
VERSION:2.0
METHOD:PUBLISH
BEGIN:VTIMEZONE
TZID:America/Los_Angeles
X-LIC-LOCATION:America/Los_Angeles
BEGIN:DAYLIGHT
TZOFFSETFROM:-0800
TZOFFSETTO:-0700
TZNAME:PDT
DTSTART:19700308T020000
RRULE:FREQ=YEARLY;BYMONTH=3;BYDAY=2SU
END:DAYLIGHT
BEGIN:STANDARD
TZOFFSETFROM:-0700
TZOFFSETTO:-0800
TZNAME:PST
DTSTART:19701101T020000
RRULE:FREQ=YEARLY;BYMONTH=11;BYDAY=1SU
END:STANDARD
END:VTIMEZONE
BEGIN:VEVENT
UID:1464587:Event:63344
DTSTAMP:20260420T180836Z
SUMMARY:Curren$y @ Voodoo Lounge!!
DESCRIPTION:VOODOO LOUNGE IN COLLABO WITH NEWSENSE, AND DOWNTOWN PRESE
 NT:\n\n\nCURREN$Y\n\n...\nALONG WITH:\n\nJ BILLION\nDON PRAHFIT\n\nAND
 \n\nGOLDENCHYLD (THE BANGERZ)\nTSYONSYN (DOWNTOWN)\nILLTRAXX (EVOLUTIO
 N)\n\n\nTHIS EVENT WILL BE AT CAPACITY.\n\n21+ | 10pm-2am | $15 (PRE-S
 ALE LINK WILL BE UP SHORTLY)\n\n\nLive Shots by: Mark Chua\n\nhttp://n
 slifestyle.net/\nhttp://voodooloungesj.com/\n\n++++++++++++++++++++\n\
 nJ BILLION (SF | BLACKSCALE | HUFSET)\nhttp://www.myspace.com/jbillion
 hufset\nhttp://jbillion.com/\n\nTake a deep breath. Now say every syno
 nym in the English language thinkable for the word swagger. Bay Area e
 mcee J-Billion, or simply \"Billion,\" should be the first word from y
 our lips as you exhale. No stranger to the hip-hop scene in San Franci
 sco, he's opened up crowds for huge artists like Q-tip, Bun B and The 
 Clipse, and had them eating from his palm. His high pitched live voice
  will cut through the weakest sound system and defeat the most unschoo
 led engineer with a will to succeed that forces the sound waves themse
 lves to be as determined as his heart is to be heard. Fairly unknown o
 utside of the Bay Area, he has more gigs performed and albums stacked 
 up than professional emcees. Which, in the course of the interview, le
 d him to declare his status as the, \"Illest rapper with a job you kno
 w.\"\n\n\nCURREN$Y (NEW ORLEANS | BluROC| TAYLOR GANG | DEF JAM)\nhttp
 ://www.myspace.com/flyspitta\nhttp://thehotspitta.com/\n\nNew Orleansâ
 €™ Curren$y has without question been one of the most prolific emcees 
 over the last 2 years. Since 2008, he has teamed up with Dame Dash, dr
 opped 9 mixtapes, 2 albums, and has made it on XXL's coveted Freshman 
 10 list in 2009 along with his peers Wale, BOB, and Kid Cudi. Even mor
 e amazing than the sheer output has been the consistent quality of the
 se offerings. As his popularity has risen, Curren$y has recognized the
  need to transition his talents to the more structured discipline of c
 reating memorable albums. With his new album, Pilot Talk, he seeks to 
 streamline the work began with his debut (This Ainâ€™t No Mixtape) and
  his sophomore LP (Jet Files).\n\n**Pitchfork REVIEW: http://pitchfork
 .com/reviews/albums/14474-pilot-talk\n\n**URB REVIEW: http://www.urb.c
 om/2010/07/12/curreny-pilot-talk/\n\n**OKAYPLAYER REVIEW: http://www.o
 kayplayer.com/reviews/new-reviews-2010/curren%24y-2010080411381/\n\n++
 ++++++++++++++++++++\n\nFor more information visit https://trueskool.c
 om/events/curreny-voodoo-lounge
DTSTART;TZID=America/Los_Angeles:20100826T210000
DTEND;TZID=America/Los_Angeles:20100827T020000
CATEGORIES:hip, hop, voodoo, lounge, currensy, "curren$y", j, billion,
  don, prahfit, fingerbangerz, goldenchyld
LOCATION:Voodoo Lounge
WEBSITE:http://www.facebook.com/event.php?eid=127955787248507
URL:http://www.facebook.com/event.php?eid=127955787248507
CONTACT:
ORGANIZER;CN="Michael Grammer":https://trueskool.com/profile/MichaelGr
 ammer
ATTACH;FMTTYPE="image/jpeg":http://storage.ning.com/topology/rest/1.0/
 file/get/2247882608?profile=original
ATTENDEE;ROLE=REQ-PARTICIPANT;PARTSTAT=ACCEPTED;RSVP=TRUE;CN="Michael 
 Grammer":https://trueskool.com/profile/MichaelGrammer
END:VEVENT
END:VCALENDAR
