BEGIN:VCALENDAR
PRODID:NingEventWidget-v1
VERSION:2.0
METHOD:PUBLISH
BEGIN:VTIMEZONE
TZID:America/Los_Angeles
X-LIC-LOCATION:America/Los_Angeles
BEGIN:DAYLIGHT
TZOFFSETFROM:-0800
TZOFFSETTO:-0700
TZNAME:PDT
DTSTART:19700308T020000
RRULE:FREQ=YEARLY;BYMONTH=3;BYDAY=2SU
END:DAYLIGHT
BEGIN:STANDARD
TZOFFSETFROM:-0700
TZOFFSETTO:-0800
TZNAME:PST
DTSTART:19701101T020000
RRULE:FREQ=YEARLY;BYMONTH=11;BYDAY=1SU
END:STANDARD
END:VTIMEZONE
BEGIN:VEVENT
UID:1464587:Event:666936
DTSTAMP:20260421T035725Z
SUMMARY:Curren$y
DESCRIPTION:Curren$y\r\nThe Pilot Talk Trilogy TourSki Beatz, Kent Jon
 es, Corner Boy P, T.Y.\r\nShow: 9:00 pm (Doors: 8:00 pm) Ages 18 and U
 p$26 ADV / $30 DOS; VIP\r\nThe New Parish, Oakland, CA1743 San Pablo A
 ve, Oakland, CA Phone: +1 510-444-7474\r\n\n\nFor more information vis
 it https://trueskool.com/events/curren-y-2
DTSTART;TZID=America/Los_Angeles:20170915T210000
DTEND;TZID=America/Los_Angeles:20170915T230000
CATEGORIES:"san francisco", oakland, berkley, "san jose", "bay area"
LOCATION:The New Parish
WEBSITE:http://www.ticketweb.com/t3/sale/SaleEventDetail?dispatch=load
 SelectionData&amp;eventId=7609895&amp;pl=newparish&amp;REFID=clientsit
 ewp
URL:http://www.ticketweb.com/t3/sale/SaleEventDetail?dispatch=loadSele
 ctionData&amp;eventId=7609895&amp;pl=newparish&amp;REFID=clientsitewp
CONTACT:
ORGANIZER;CN="Editor's Pick":https://trueskool.com/profile/RentheVinyl
 Archaeologist
ATTACH;FMTTYPE="image/jpeg":http://storage.ning.com/topology/rest/1.0/
 file/get/2248001334?profile=original
ATTENDEE;ROLE=REQ-PARTICIPANT;PARTSTAT=ACCEPTED;RSVP=TRUE;CN="Editor's
  Pick":https://trueskool.com/profile/RentheVinylArchaeologist
END:VEVENT
END:VCALENDAR
