BEGIN:VCALENDAR
PRODID:NingEventWidget-v1
VERSION:2.0
METHOD:PUBLISH
BEGIN:VTIMEZONE
TZID:America/Los_Angeles
X-LIC-LOCATION:America/Los_Angeles
BEGIN:DAYLIGHT
TZOFFSETFROM:-0800
TZOFFSETTO:-0700
TZNAME:PDT
DTSTART:19700308T020000
RRULE:FREQ=YEARLY;BYMONTH=3;BYDAY=2SU
END:DAYLIGHT
BEGIN:STANDARD
TZOFFSETFROM:-0700
TZOFFSETTO:-0800
TZNAME:PST
DTSTART:19701101T020000
RRULE:FREQ=YEARLY;BYMONTH=11;BYDAY=1SU
END:STANDARD
END:VTIMEZONE
BEGIN:VEVENT
UID:1464587:Event:667581
DTSTAMP:20260424T044251Z
SUMMARY:San Francisco Cuban Salsa classes
DESCRIPTION:San Francisco CultuCuba classes:\n\nMission Cultural Cente
 r \n2868 Mission Street, San Francisco 94110  Tuesdays: 7:00pm- 8:00p
 m Studio A Beg. Cuban Salsa and Rueda de Casino\n8:00pm- 9:00pm Int/Ad
 v\n Thursday: 8:00pm- 9:15pm Studio B Int/adv Cuban Salsa and Rueda de
  Casino\nThese classes will teach you how to dance and to connect the 
 music to the movements. \nCost: $12 each class\nhttps://www.sfbayareac
 ubanfestival.com/copy-of-cuba-descarga-weekly-cuban- www.cultucuba.org
 \n\nFor more information visit https://trueskool.com/events/cultucuba-
 classes-1
DTSTART;TZID=America/Los_Angeles:20200204T190000
DTEND;TZID=America/Los_Angeles:20210203T210000
CATEGORIES:malonga, center
LOCATION:Mission Cultural Center
WEBSITE:
URL:
CONTACT:415 947 9729
ORGANIZER:CultuCuba
ATTACH;FMTTYPE="image/jpeg":http://storage.ning.com/topology/rest/1.0/
 file/get/2247957450?profile=original
ATTENDEE;ROLE=REQ-PARTICIPANT;PARTSTAT=ACCEPTED;RSVP=TRUE;CN="Manuel S
 uarez":https://trueskool.com/profile/ManuelSuarez
END:VEVENT
END:VCALENDAR
