BEGIN:VCALENDAR
PRODID:NingEventWidget-v1
VERSION:2.0
METHOD:PUBLISH
BEGIN:VTIMEZONE
TZID:America/Los_Angeles
X-LIC-LOCATION:America/Los_Angeles
BEGIN:DAYLIGHT
TZOFFSETFROM:-0800
TZOFFSETTO:-0700
TZNAME:PDT
DTSTART:19700308T020000
RRULE:FREQ=YEARLY;BYMONTH=3;BYDAY=2SU
END:DAYLIGHT
BEGIN:STANDARD
TZOFFSETFROM:-0700
TZOFFSETTO:-0800
TZNAME:PST
DTSTART:19701101T020000
RRULE:FREQ=YEARLY;BYMONTH=11;BYDAY=1SU
END:STANDARD
END:VTIMEZONE
BEGIN:VEVENT
UID:1464587:Event:679267
DTSTAMP:20260421T160030Z
SUMMARY:Cuba Trip
DESCRIPTION:Cuba Trip Two week programDecember 27, 2018- January 9, 2
 019 (music and dance)This trip will take you to see both the cultural 
 highlights of Cuba as well as explore the everyday Cuban experience. T
 he two week long program includes classes, workshops, lectures, excurs
 ions and live performances where you will interact directly with Cuban
 s.Program fee:Double Room $2,575Single Room $2,800Program Fee Includes
 :-Round trip flight Fort Lauderdale -Havana -3 hours of dance and/or 
 percussion classes dailyand daily materials-Daily transportation-Lodgi
 ng with your own private room & bathroom-Two meals a day-Itinerary-Dai
 ly activitiesDeposit: $500 due by November 28, 2018sanfranciscobacuban
 festival@gmail.com\n\nFor more information visit https://trueskool.com
 /events/cuba-trip
DTSTART;TZID=America/Los_Angeles:20181227T150000
DTEND;TZID=America/Los_Angeles:20190109T110000
CATEGORIES:"havana cuba", "san francsico", "bay area", latinos, salsa,
  rumba
LOCATION:Cuba
WEBSITE:
URL:
CONTACT:4159479729
ORGANIZER;CN="Manuel Suarez":https://trueskool.com/profile/ManuelSuare
 z
ATTACH;FMTTYPE="image/jpeg":http://storage.ning.com/topology/rest/1.0/
 file/get/2248010644?profile=original
ATTENDEE;ROLE=REQ-PARTICIPANT;PARTSTAT=ACCEPTED;RSVP=TRUE;CN="Manuel S
 uarez":https://trueskool.com/profile/ManuelSuarez
END:VEVENT
END:VCALENDAR
