BEGIN:VCALENDAR
PRODID:NingEventWidget-v1
VERSION:2.0
METHOD:PUBLISH
BEGIN:VTIMEZONE
TZID:America/Los_Angeles
X-LIC-LOCATION:America/Los_Angeles
BEGIN:DAYLIGHT
TZOFFSETFROM:-0800
TZOFFSETTO:-0700
TZNAME:PDT
DTSTART:19700308T020000
RRULE:FREQ=YEARLY;BYMONTH=3;BYDAY=2SU
END:DAYLIGHT
BEGIN:STANDARD
TZOFFSETFROM:-0700
TZOFFSETTO:-0800
TZNAME:PST
DTSTART:19701101T020000
RRULE:FREQ=YEARLY;BYMONTH=11;BYDAY=1SU
END:STANDARD
END:VTIMEZONE
BEGIN:VEVENT
UID:1464587:Event:33272
DTSTAMP:20260421T083221Z
SUMMARY:Crush-O-Matic: Dirty 30 Funk Shop
DESCRIPTION:\n\nOn Saturday, June 6th, Crush Collective and Prismatic 
 are proud to present Crush-O-Matic: Dirty 30 Funk Shop! As an annual b
 irthday party for Rob Crush, we’re returning to the outdoor fun in t
 he sun at Mars Bar for what promises to be a true San Francisco summer
 time blowout!\n\nRunning from Noon to 2AM, this 14 hour extravaganza i
 s expected to hit capacity, early arrival is highly suggested to guara
 ntee entry! Featuring drink specials by Dos Equis and Blue Angel Vodka
 , plus BBQ, live art, fashion, breakdancing, and much more, along with
  a stacked line up of some of the top DJs in the Bay Area:\n\nRick Pre
 ston\nJ-Boogie\nKing Kooba\nWorthy\nFluid\nM3\nAlland Byallo\nGalen\nD
 eron\nAndrew Phelan & Origami\nRouzbeh\nJimmy B\nThe Corporate Scandal
 s\nNative Intelligence\nRob Crush\n\nLive Art:\n\nDest\nGeppeddo\nDuan
 e\n\nFashion:\n\nMission Statement\nAttire Threads\n22 Tycoon\nSurpris
 e Nistas\n\nBreakdancing by Rose + Friends\n\nHosts:\n\nTommy Speer\nD
 awn of Sound\nMonica (MDeep)\nLaura Moondoggie\nJrock\nPamela G\nLisa 
 Rose\nCherrybomb\nMegatron\nJT\nLuke\n\nPhotos By Smile\n\nNoon-2AM\nT
 asty Bites 2PM-6PM\nFree before 1, $5 before 5, $15 after\n\nMars Bar\
 n798 Brannan St. @ 7th\nSan Francisco, CA\n\nwww.prismatictracks.com\n
 \nFor more information visit https://trueskool.com/events/crushomatic-
 dirty-30-funk-shop
DTSTART;TZID=America/Los_Angeles:20090606T120000
DTEND;TZID=America/Los_Angeles:20090607T020000
CATEGORIES:house, funk, downtempo
LOCATION:Mars Bar, San Francisco, CA
WEBSITE:http://www.prismatictracks.com
URL:http://www.prismatictracks.com
CONTACT:
ORGANIZER;CN=Prismatic:https://trueskool.com/profile/Prismatic
ATTACH;FMTTYPE="image/jpeg":
ATTENDEE;ROLE=REQ-PARTICIPANT;PARTSTAT=ACCEPTED;RSVP=TRUE;CN=Prismatic
 :https://trueskool.com/profile/Prismatic
END:VEVENT
END:VCALENDAR
