BEGIN:VCALENDAR
PRODID:NingEventWidget-v1
VERSION:2.0
METHOD:PUBLISH
BEGIN:VTIMEZONE
TZID:America/Los_Angeles
X-LIC-LOCATION:America/Los_Angeles
BEGIN:DAYLIGHT
TZOFFSETFROM:-0800
TZOFFSETTO:-0700
TZNAME:PDT
DTSTART:19700308T020000
RRULE:FREQ=YEARLY;BYMONTH=3;BYDAY=2SU
END:DAYLIGHT
BEGIN:STANDARD
TZOFFSETFROM:-0700
TZOFFSETTO:-0800
TZNAME:PST
DTSTART:19701101T020000
RRULE:FREQ=YEARLY;BYMONTH=11;BYDAY=1SU
END:STANDARD
END:VTIMEZONE
BEGIN:VEVENT
UID:1464587:Event:672108
DTSTAMP:20260421T173456Z
SUMMARY:CRUSH SF
DESCRIPTION:Insomniac & Another Planet Entertainment present\r\nCRUSH 
 SF\r\nFlosstradamus Ghastly K?D :: Yultron :: Ducky  Virtu :: Michael 
 Bricker\r\nBill Graham Civic Auditorium San Francisco, CA\r\nSaturday,
  February 17, 2018 Doors: 6:00pm | Show: 6:00pm\r\nPlease note this ev
 ent is 18 and over.\r\n$60.00 – General Admission $65.00 – General
  Admission** $110.00 – Couples Pass\r\n*plus applicable service fees
  **available when lower price level sells out\r\nTickets are also avai
 lable service charge free at The Fox Theater’s Box Office (located o
 n the 19th street side of the theater) on show dates and on Fridays fr
 om noon – 7:00pm.\n\nFor more information visit https://trueskool.co
 m/events/crush-sf
DTSTART;TZID=America/Los_Angeles:20180217T180000
DTEND;TZID=America/Los_Angeles:20180217T230000
CATEGORIES:"bay area", oakland, "san francisco", "san jose", berkeley
LOCATION:Bill Graham Civic Auditorium, SF
WEBSITE:https://www.ticketmaster.com/event/1C00537E18EEA6C8?camefrom=C
 FC_ANOTHERPLANET_web&amp;amp;brand=anotherplanet
URL:https://www.ticketmaster.com/event/1C00537E18EEA6C8?camefrom=CFC_A
 NOTHERPLANET_web&amp;amp;brand=anotherplanet
CONTACT:
ORGANIZER;CN="Editor's Pick":https://trueskool.com/profile/RentheVinyl
 Archaeologist
ATTACH;FMTTYPE="image/jpeg":http://storage.ning.com/topology/rest/1.0/
 file/get/2248004532?profile=original
ATTENDEE;ROLE=REQ-PARTICIPANT;PARTSTAT=ACCEPTED;RSVP=TRUE;CN="Editor's
  Pick":https://trueskool.com/profile/RentheVinylArchaeologist
END:VEVENT
END:VCALENDAR
