BEGIN:VCALENDAR
PRODID:NingEventWidget-v1
VERSION:2.0
METHOD:PUBLISH
BEGIN:VTIMEZONE
TZID:America/Los_Angeles
X-LIC-LOCATION:America/Los_Angeles
BEGIN:DAYLIGHT
TZOFFSETFROM:-0800
TZOFFSETTO:-0700
TZNAME:PDT
DTSTART:19700308T020000
RRULE:FREQ=YEARLY;BYMONTH=3;BYDAY=2SU
END:DAYLIGHT
BEGIN:STANDARD
TZOFFSETFROM:-0700
TZOFFSETTO:-0800
TZNAME:PST
DTSTART:19701101T020000
RRULE:FREQ=YEARLY;BYMONTH=11;BYDAY=1SU
END:STANDARD
END:VTIMEZONE
BEGIN:VEVENT
UID:1464587:Event:268781
DTSTAMP:20260421T162906Z
SUMMARY:Crooked I of Slaughter House (WIN TICKETS)
DESCRIPTION:\n Thursday 12/12 Sean Healy Presents & Tastemaker Live Cr
 ooked I of Slaughter House\nThe New Parish 579 18th Street (at San Pab
 lo) Oakland, CA 94612 Doors: 8:00 pm / Show: 9:00 pm This event is 18 
 and over More Info $15 GA - $25 VIP\n\nFor more information visit http
 s://trueskool.com/events/crooked-i-of-slaughter-house
DTSTART;TZID=America/Los_Angeles:20131212T200000
DTEND;TZID=America/Los_Angeles:20131212T230000
CATEGORIES:"bay area", oakland
LOCATION:The New Parish
WEBSITE:http://www.thenewparish.com/event/413673-crooked-i-slaughter-h
 ouse-oakland
URL:http://www.thenewparish.com/event/413673-crooked-i-slaughter-house
 -oakland
CONTACT:
ORGANIZER:The New Parish
ATTACH;FMTTYPE="image/jpeg":http://storage.ning.com/topology/rest/1.0/
 file/get/2247952337?profile=original
ATTENDEE;ROLE=REQ-PARTICIPANT;PARTSTAT=ACCEPTED;RSVP=TRUE;CN="Eric Dur
 an":https://trueskool.com/profile/EricDuran
ATTENDEE;ROLE=REQ-PARTICIPANT;PARTSTAT=ACCEPTED;RSVP=TRUE;CN="Staff Pi
 ck":https://trueskool.com/profile/Ren
END:VEVENT
END:VCALENDAR
