BEGIN:VCALENDAR
PRODID:NingEventWidget-v1
VERSION:2.0
METHOD:PUBLISH
BEGIN:VTIMEZONE
TZID:America/Los_Angeles
X-LIC-LOCATION:America/Los_Angeles
BEGIN:DAYLIGHT
TZOFFSETFROM:-0800
TZOFFSETTO:-0700
TZNAME:PDT
DTSTART:19700308T020000
RRULE:FREQ=YEARLY;BYMONTH=3;BYDAY=2SU
END:DAYLIGHT
BEGIN:STANDARD
TZOFFSETFROM:-0700
TZOFFSETTO:-0800
TZNAME:PST
DTSTART:19701101T020000
RRULE:FREQ=YEARLY;BYMONTH=11;BYDAY=1SU
END:STANDARD
END:VTIMEZONE
BEGIN:VEVENT
UID:1464587:Event:470350
DTSTAMP:20260421T021354Z
SUMMARY:CREAM OF BEAT REUNION w/ TOO $HORT - THANKSGIVING NIGHT CELEBR
 ATION
DESCRIPTION:\nThursday Nov 27, 2014 Personal Touch & The Pirate DJ's P
 resent CREAM OF BEAT REUNION THANKSGIVING NIGHT CELEBRATION\nw/ TOO $H
 ORT  Performing Classic Hits \"Freaky Tales\", \"Life Is...Too Short\"
 , \"Short But Funky\" & More!\nPLUS Music By PIRATE DJs... MIND MOTION
  * IVAN * DARK MONEY\nALONG With Special Guests... APOLLO * FUZE * D-S
 HARP * SCOTTY FOXX * MALACHI\nSpinning Hip-Hop, R&B, Soul and Dancehal
 l Reggae from the beginning to 2000 only!\nHosted by: CHUY GOMEZ, NEVI
 LLE (NEV DA REB), FRAN BOOGIE, THE LOVE MOVEMENT, TRUE SKOOL, MR JE + 
 More!\nBrought to you by: PERSONAL TOUCH, THE PIRATE DJs and TRUE\n@ 
 Mezzanine\n444 Jessie St  San Francisco, CA 9pm-Going Afterhours 21 an
 d over $20 - $50\nThis event will sell out so get your tickets early!\
 nTickets On Sale & available now at http://www.ticketfly.com/event/701
 849\nAll Early Bird Ticket Buyers will receive a FREE CREAM OF BEAT Re
 union CD mixed by Mind Motion! CDs will be given out at the door.\nHar
 d Tickets available now at... TRUE - 1415 Haight Street @ Masonic in S
 F  Call 415-626-2882 TRUE EAST - 1550 Newell Promenade in Walnut Creek
  Call 925-280-6747\nFOR VIP BOTTLE RESERVATIONS Call 415-625-8880 or E
 mail bottleservice@mezzaninesf.com\n\nFor more information visit https
 ://trueskool.com/events/cream-of-beat-reunion-w-too-hort-thanksgiving-
 night-celebration
DTSTART;TZID=America/Los_Angeles:20141127T210000
DTEND;TZID=America/Los_Angeles:20141128T030000
CATEGORIES:"bay area", "san francisco"
LOCATION:Mezzanine, San Francisco
WEBSITE:http://www.ticketfly.com/event/701849
URL:http://www.ticketfly.com/event/701849
CONTACT:
ORGANIZER:Personal Touch
ATTACH;FMTTYPE="image/jpeg":http://storage.ning.com/topology/rest/1.0/
 file/get/2247971029?profile=original
ATTENDEE;ROLE=REQ-PARTICIPANT;PARTSTAT=ACCEPTED;RSVP=TRUE;CN="James Mi
 chael Federighi":https://trueskool.com/profile/JamesMichaelFederighi
ATTENDEE;ROLE=REQ-PARTICIPANT;PARTSTAT=ACCEPTED;RSVP=TRUE;CN="Editor's
  Pick":https://trueskool.com/profile/RentheVinylArchaeologist
END:VEVENT
END:VCALENDAR
