BEGIN:VCALENDAR
PRODID:NingEventWidget-v1
VERSION:2.0
METHOD:PUBLISH
BEGIN:VTIMEZONE
TZID:America/Los_Angeles
X-LIC-LOCATION:America/Los_Angeles
BEGIN:DAYLIGHT
TZOFFSETFROM:-0800
TZOFFSETTO:-0700
TZNAME:PDT
DTSTART:19700308T020000
RRULE:FREQ=YEARLY;BYMONTH=3;BYDAY=2SU
END:DAYLIGHT
BEGIN:STANDARD
TZOFFSETFROM:-0700
TZOFFSETTO:-0800
TZNAME:PST
DTSTART:19701101T020000
RRULE:FREQ=YEARLY;BYMONTH=11;BYDAY=1SU
END:STANDARD
END:VTIMEZONE
BEGIN:VEVENT
UID:1464587:Event:632009
DTSTAMP:20260421T144844Z
SUMMARY:CREAM OF BEAT Reunion Party 2015 ft. Mr. Cheeks (Lost Boyz), M
 ac Mall, Pirate DJs, D-Sharp, Fuze, Apollo...
DESCRIPTION: ENTER TO WIN A PAIR OF TICKETS. WINNER WILL BE DRAWN RAND
 OMLY AND ANNOUNCED 2 DAYS PRIOR TO EVENT.  \n\nThursday, July 2nd 2015
 \nThe Pirate DJs serve up another meal...\nCREAM OF BEAT Reunion Party
  2015\nWe're gonna party like we use to back in the day!\n\nFEATURING 
 classic LIVE Performances by...\nMR. CHEEKS OF THE LOST BOYZ\nPerformi
 ng Classic Hits \"Lights, Camera, Action\", \"Renee\", \"Music Makes M
 e High\", \"Me And My Crazy World\", \"Jeeps, Lex Coups, Bimaz & Benz\
 " & More!\n+\nThe Bay's own\nMAC MALL\nTakin you back Performing Hits 
 \"Sic Wit Tis\", \"Wide Open\" & More!\nPLUS Music By PIRATE DJs... MI
 ND MOTION * IVAN * DARK MONEY\nALONG With Special Guests... APOLLO * F
 UZE * D-SHARP\nSpinning Hip-Hop, R&B, Soul and Dancehall Reggae from t
 he beginning to 2000 only!\nHosted by: CHUY GOMEZ, NEVILLE (NEV DA REB
 ), FRAN BOOGIE, THE LOVE MOVEMENT, TRUE SKOOL, MR JE + More!\nBrought 
 to you by: PERSONAL TOUCH, THE PIRATE DJs & TRUE\n\nAt RUBY SKYE - 420
  Mason Street in San Francisco\n9pm-Going Afterhours | 21 and over | N
 o Dresscode but keep it FRESH\nThis event will sell out so get your ti
 ckets early!\nTickets On Sale & available now at https://creamofbeatre
 union.eventbrite.com\nHard Tickets available this week at... TRUE - 14
 15 Haight Street @ Masonic in SF  Call 415-626-2882 TRUE EAST - 1550 N
 ewell Promenade in Walnut Creek Call 925-280-6747\nFOR VIP BOTTLE RESE
 RVATIONS Text 415-341-7314 or Email info@personaltouchsf.com\nDue to p
 opular demand, we're bringing back this old school party 4th of July w
 eek and Thanksgiving night this year! All original CREAM OF BEAT party
  goers and anyone that can appreciate an old school vibe and music is 
 welcome! Don't miss this incredible night! We hope you can join us!\n\
 nFor more information visit https://trueskool.com/events/cream-of-beat
 -reunion-party-2015-ft-mr-cheeks-lost-boyz-mac-mall-
DTSTART;TZID=America/Los_Angeles:20150702T210000
DTEND;TZID=America/Los_Angeles:20150703T030000
CATEGORIES:"bay area", "san francisco"
LOCATION:Ruby Skye, SF
WEBSITE:https://creamofbeatreunion.eventbrite.com
URL:https://creamofbeatreunion.eventbrite.com
CONTACT:
ORGANIZER:Personal Touch Entertainment
ATTACH;FMTTYPE="image/jpeg":http://storage.ning.com/topology/rest/1.0/
 file/get/2247976339?profile=original
ATTENDEE;ROLE=REQ-PARTICIPANT;PARTSTAT=ACCEPTED;RSVP=TRUE;CN="Ren the 
 Vinyl Archaeologist":https://trueskool.com/profile/xh51jvilojur
END:VEVENT
END:VCALENDAR
