BEGIN:VCALENDAR
PRODID:NingEventWidget-v1
VERSION:2.0
METHOD:PUBLISH
BEGIN:VTIMEZONE
TZID:America/Los_Angeles
X-LIC-LOCATION:America/Los_Angeles
BEGIN:DAYLIGHT
TZOFFSETFROM:-0800
TZOFFSETTO:-0700
TZNAME:PDT
DTSTART:19700308T020000
RRULE:FREQ=YEARLY;BYMONTH=3;BYDAY=2SU
END:DAYLIGHT
BEGIN:STANDARD
TZOFFSETFROM:-0700
TZOFFSETTO:-0800
TZNAME:PST
DTSTART:19701101T020000
RRULE:FREQ=YEARLY;BYMONTH=11;BYDAY=1SU
END:STANDARD
END:VTIMEZONE
BEGIN:VEVENT
UID:1464587:Event:679838
DTSTAMP:20260421T080220Z
SUMMARY:CRAZY FOR YOU
DESCRIPTION:November 10 - December 16, 2018\n\nThe New Gershwin Musica
 l Comedy\nCRAZY FOR YOUMusic and Lyrics by George Gershwin and Ira Ger
 shwinBook by Ken LudwigOriginal Broadway Choreography by Susan Stroman
 Co-Conception by Ken Ludwig and Mike OckrentInspired by Material by Gu
 y Bolton and John McGowanOriginally produced on Broadway by Roger Horc
 how and Elizabeth Williams\n\nTICKETS ($35 - $65): https://www.bamsf.o
 rg/crazy-for-you/\nFACEBOOK: https://www.facebook.com/events/454792868
 344531/\n\n\"CRAZY FOR YOU uncorked the American musical’s classic b
 lend of music, laughter, dancing, sentiment and showmanship with a fre
 shness and confidence rarely seen during the C decade...Crazy for Yo
 u scrapes away decades of cabaret and jazz and variety-show interpreta
 tions to reclaim the Gershwins’ standards, in all their glorious you
 th, for the dynamism of the stage.\" -The New York Times\n A zany rich
 -boy-meets-hometown-girl romantic comedy, CRAZY FOR YOU tells the sto
 ry of young New York banker Bobby Child, who is sent to Deadrock, Neva
 da, to foreclose on a rundown theatre. In Deadrock, Bobby falls for sp
 unky Polly Baker, the theater owner’s daughter. But Polly takes an i
 nstant dislike to the city slicker, so Bobby vows – through cunning,
  razzmatazz, and a hilarious case of mistaken identity – to win Poll
 y’s heart and save the theatre. Memorable Gershwin tunes from the sc
 ore include “I Got Rhythm,” “Naughty Baby,” “They Can’t Ta
 ke That Away from Me,” “Embraceable You,” “But Not for Me,” 
 “Nice Work if You Can Get It,” and “Someone to Watch Over Me.”
 \n\nAlcazar Theatre650 Geary StreetSan Francisco, CA 94103\n(415) 340-
 2207\nbox@bamsf.org\n\nFor more information visit https://trueskool.co
 m/events/crazy-for-you
DTSTART;TZID=America/Los_Angeles:20181110T200000
DTEND;TZID=America/Los_Angeles:20181216T140000
CATEGORIES:san, francisco, bay, area
LOCATION:Alcazar Theatre, San Francisco
WEBSITE:https://www.bamsf.org/crazy-for-you/
URL:https://www.bamsf.org/crazy-for-you/
CONTACT:(415) 340-2207
ORGANIZER:Bay Area Musicals
ATTACH;FMTTYPE="image/jpeg":http://storage.ning.com/topology/rest/1.0/
 file/get/2248011180?profile=original
ATTENDEE;ROLE=REQ-PARTICIPANT;PARTSTAT=ACCEPTED;RSVP=TRUE;CN="Jonathan
  White":https://trueskool.com/profile/JonathanWhite
END:VEVENT
END:VCALENDAR
