BEGIN:VCALENDAR
PRODID:NingEventWidget-v1
VERSION:2.0
METHOD:PUBLISH
BEGIN:VTIMEZONE
TZID:America/Los_Angeles
X-LIC-LOCATION:America/Los_Angeles
BEGIN:DAYLIGHT
TZOFFSETFROM:-0800
TZOFFSETTO:-0700
TZNAME:PDT
DTSTART:19700308T020000
RRULE:FREQ=YEARLY;BYMONTH=3;BYDAY=2SU
END:DAYLIGHT
BEGIN:STANDARD
TZOFFSETFROM:-0700
TZOFFSETTO:-0800
TZNAME:PST
DTSTART:19701101T020000
RRULE:FREQ=YEARLY;BYMONTH=11;BYDAY=1SU
END:STANDARD
END:VTIMEZONE
BEGIN:VEVENT
UID:1464587:Event:53419
DTSTAMP:20260421T072517Z
SUMMARY:Corinne Bailey Rae
DESCRIPTION:Thursday April 15th\nCorinne Bailey Rae\nplus Daniel Merri
 weather\n\nThe Regency Ballroom\n1290 Sutter St., San Francisco, CA\nA
 ll Ages\ndoors at 7pm\ntickets $27.50 - $30\nBuy Tickets:\n\n\n\n\n\n\
 nFor more information visit https://trueskool.com/events/corinne-baile
 y-rae
DTSTART;TZID=America/Los_Angeles:20100415T200000
DTEND;TZID=America/Los_Angeles:20100416T000000
CATEGORIES:"r&b", soul
LOCATION:The Regency Ballroom, San Francisco, CA
WEBSITE:http://goldenvoice.com/shows/details/?id=26239
URL:http://goldenvoice.com/shows/details/?id=26239
CONTACT:
ORGANIZER;CN="Editor's Pick":https://trueskool.com/profile/RentheVinyl
 Archaeologist
ATTACH;FMTTYPE="image/jpeg":http://storage.ning.com/topology/rest/1.0/
 file/get/2247876394?profile=original
ATTENDEE;ROLE=REQ-PARTICIPANT;PARTSTAT=ACCEPTED;RSVP=TRUE;CN="Editor's
  Pick":https://trueskool.com/profile/RentheVinylArchaeologist
END:VEVENT
END:VCALENDAR
