BEGIN:VCALENDAR
PRODID:NingEventWidget-v1
VERSION:2.0
METHOD:PUBLISH
BEGIN:VTIMEZONE
TZID:America/Los_Angeles
X-LIC-LOCATION:America/Los_Angeles
BEGIN:DAYLIGHT
TZOFFSETFROM:-0800
TZOFFSETTO:-0700
TZNAME:PDT
DTSTART:19700308T020000
RRULE:FREQ=YEARLY;BYMONTH=3;BYDAY=2SU
END:DAYLIGHT
BEGIN:STANDARD
TZOFFSETFROM:-0700
TZOFFSETTO:-0800
TZNAME:PST
DTSTART:19701101T020000
RRULE:FREQ=YEARLY;BYMONTH=11;BYDAY=1SU
END:STANDARD
END:VTIMEZONE
BEGIN:VEVENT
UID:1464587:Event:679869
DTSTAMP:20260421T174711Z
SUMMARY:CON FUNK SHUN
DESCRIPTION:ENTER TO WIN A PAIR OF TICKETS. WINNER WILL BE DRAWN RANDO
 MLY AND ANNOUNCED 2 DAYS PRIOR TO EVENT.\r\n\r\nCON FUNK SHUN Pre-New 
 Years Eve -Fan Appreciation Party \r\nThursday Dec 27, 2018\r\n@ Yoshi
 's Oakland, 510 Embarcadero West, Oakland, CA Doors: 7:30 PM. Show: 8:
 00 PM. $34 - $79 >> BUY TICKETS Doors: 9:45 PM. Show: 10:00 PM. $34 >
 > BUY TICKETS\r\nFriday Dec 28, 2018 @ Yoshi's Oakland, 510 Embarcader
 o West, Oakland, CA Doors: 7:30 PM. Show: 8:00 PM. $39 - $89 >> BUY T
 ICKETS Doors: 9:45 PM. Show: 10:00 PM. $39 >> BUY TICKETS\r\nSaturday
  Dec 29, 2018\r\n@ Yoshi's Oakland, 510 Embarcadero West, Oakland, CA\
 r\nDoors: 7:00 PM. Show: 7:30 PM. $49 - $89 >> BUY TICKETS Doors: 9:
 15 PM. Show: 9:30 PM. $49 >> BUY TICKETS\r\n\n\nFor more information v
 isit https://trueskool.com/events/con-funk-shun-4
DTSTART;TZID=America/Los_Angeles:20181227T200000
DTEND;TZID=America/Los_Angeles:20181229T213000
CATEGORIES:"bay area", oakland, "san francisco", "san jose", berkeley
LOCATION:Yoshi's, Oakland
WEBSITE:https://www.yoshis.com/search/?q=CON%20FUNK%20SHUN
URL:https://www.yoshis.com/search/?q=CON%20FUNK%20SHUN
CONTACT:
ORGANIZER:Yoshi's
ATTACH;FMTTYPE="image/jpeg":http://storage.ning.com/topology/rest/1.0/
 file/get/2248011619?profile=original
ATTENDEE;ROLE=REQ-PARTICIPANT;PARTSTAT=ACCEPTED;RSVP=TRUE;CN="Editor's
  Pick":https://trueskool.com/profile/RentheVinylArchaeologist
END:VEVENT
END:VCALENDAR
