BEGIN:VCALENDAR
PRODID:NingEventWidget-v1
VERSION:2.0
METHOD:PUBLISH
BEGIN:VTIMEZONE
TZID:America/Los_Angeles
X-LIC-LOCATION:America/Los_Angeles
BEGIN:DAYLIGHT
TZOFFSETFROM:-0800
TZOFFSETTO:-0700
TZNAME:PDT
DTSTART:19700308T020000
RRULE:FREQ=YEARLY;BYMONTH=3;BYDAY=2SU
END:DAYLIGHT
BEGIN:STANDARD
TZOFFSETFROM:-0700
TZOFFSETTO:-0800
TZNAME:PST
DTSTART:19701101T020000
RRULE:FREQ=YEARLY;BYMONTH=11;BYDAY=1SU
END:STANDARD
END:VTIMEZONE
BEGIN:VEVENT
UID:1464587:Event:672037
DTSTAMP:20260421T120325Z
SUMMARY:Con Funk Shun
DESCRIPTION:More Than Love Pre-Valentine Weekend\r\n\r\nCON FUNK SHUN\
 r\n\r\nSaturday Feb 10, 2018 Doors: 7:00 PM  Show: 7:30 PM\r\n$42 - $8
 5\r\n\r\nSaturday Feb 10, 2018 Doors: 9:15 PM  Show: 9:30 PM\r\n$42\
 r\n\r\nSunday Feb 11, 2018 Doors: 6:30 PM  Show: 7:00 PM\r\n$39 - $7
 9\r\n\r\nSunday Feb 11, 2018 Doors: 8:45 PM  Show: 9:00 PM\r\n$39\r\
 n\r\nMonday Feb 12, 2018 Doors: 7:30 PM  Show: 8:00 PM\r\n$29 - $79\
 n\nFor more information visit https://trueskool.com/events/con-funk-sh
 un-3
DTSTART;TZID=America/Los_Angeles:20180210T193000
DTEND;TZID=America/Los_Angeles:20180212T230000
CATEGORIES:"bay area", oakland, "san francisco", "san jose", berkeley
LOCATION:Yoshi's, Oakland
WEBSITE:https://www.ticketfly.com/purchase/event/1578067?_ga=2.1149316
 55.1915339444.1515102452-218490110.1515102451
URL:https://www.ticketfly.com/purchase/event/1578067?_ga=2.114931655.1
 915339444.1515102452-218490110.1515102451
CONTACT:
ORGANIZER;CN="Editor's Pick":https://trueskool.com/profile/RentheVinyl
 Archaeologist
ATTACH;FMTTYPE="image/jpeg":http://storage.ning.com/topology/rest/1.0/
 file/get/2247993659?profile=original
ATTENDEE;ROLE=REQ-PARTICIPANT;PARTSTAT=ACCEPTED;RSVP=TRUE;CN="Editor's
  Pick":https://trueskool.com/profile/RentheVinylArchaeologist
END:VEVENT
END:VCALENDAR
